BEGIN:VCALENDAR
VERSION:2.0
METHOD:PUBLISH
PRODID:-//Missouri State University/Calendar of Events//EN
CALSCALE:GREGORIAN
X-WR-TIMEZONE:America/Chicago
BEGIN:VTIMEZONE
TZID:America/Chicago
BEGIN:DAYLIGHT
TZOFFSETFROM:-0600
TZOFFSETTO:-0500
DTSTART:20070311T020000
RRULE:FREQ=YEARLY;BYMONTH=3;BYDAY=2SU
TZNAME:CDT
END:DAYLIGHT
BEGIN:STANDARD
TZOFFSETFROM:-0500
TZOFFSETTO:-0600
DTSTART:20071104T020000
RRULE:FREQ=YEARLY;BYMONTH=11;BYDAY=1SU
TZNAME:CST
END:STANDARD
END:VTIMEZONE
BEGIN:VEVENT
UID:d1761fea-29d8-4f19-9766-2c8a832772e0.221152@calendar.missouristate.edu
CREATED:20220621T155433Z
LAST-MODIFIED:20220621T155433Z
LOCATION:Plaster Student Union\, Robert W. 400
SUMMARY:Adult Student Welcome Orientation
DESCRIPTION:Attend this special orientation to Missouri State University f
 or new adult students.\n\n\nRegister now for the fall 2022 in-person adul
 t student orientation. At the orientation\, you will learn about opportun
 ities and resources Missouri State offers you\, as well as have the chanc
 e to meet other nontraditional/adult students. Free breakfast will be pro
 vided and you are welcome to bring a guest. An optional campus tour is of
 fered after the orientation. \n\n\n**Please note that the orientation is 
 NOT a registration event\; if you need assistance registering for your co
 urses or finding your advisor\, please contact adult student services at 
 AdultStudentServices@MissouriState.edu**
X-ALT-DESC;FMTTYPE=text/html:&lt;html&gt;&lt;head&gt;&lt;title&gt;&lt;/title&gt;&lt;/head&gt;&lt;body&gt;&lt;p&gt;&lt;s
 trong&gt;Attend this special orientation to Missouri State University for ne
 w adult students&lt;/strong&gt;.&lt;/p&gt;\n&lt;p&gt;Register now for the fall 2022 in-pers
 on adult student orientation. At the orientation\, you will learn about o
 pportunities and resources Missouri State offers you\, as well as have th
 e chance to meet other nontraditional/adult students. Free breakfast will
  be provided and you are welcome to bring a guest. An optional campus tou
 r is offered after the orientation.&amp;nbsp\;&lt;/p&gt;\n&lt;p&gt;**Please note that the
  orientation is NOT a registration event\; if you need assistance registe
 ring for your courses or finding your advisor\, please contact adult stud
 ent services at AdultStudentServices@MissouriState.edu**&lt;/p&gt;&lt;/body&gt;&lt;/html&gt;
DTSTART;TZID=America/Chicago:20220820T083000
DTEND;TZID=America/Chicago:20220820T120000
SEQUENCE:0
URL:https://adultstudents.missouristate.edu/orientation.htm
CATEGORIES:Current Students,Future Students
END:VEVENT
END:VCALENDAR