BEGIN:VCALENDAR
VERSION:2.0
METHOD:PUBLISH
PRODID:-//Missouri State University/Calendar of Events//EN
CALSCALE:GREGORIAN
X-WR-TIMEZONE:America/Chicago
BEGIN:VTIMEZONE
TZID:America/Chicago
BEGIN:DAYLIGHT
TZOFFSETFROM:-0600
TZOFFSETTO:-0500
DTSTART:20070311T020000
RRULE:FREQ=YEARLY;BYMONTH=3;BYDAY=2SU
TZNAME:CDT
END:DAYLIGHT
BEGIN:STANDARD
TZOFFSETFROM:-0500
TZOFFSETTO:-0600
DTSTART:20071104T020000
RRULE:FREQ=YEARLY;BYMONTH=11;BYDAY=1SU
TZNAME:CST
END:STANDARD
END:VTIMEZONE
BEGIN:VEVENT
UID:b2d42190-7915-4bce-b5cb-a756a922a2bb.221158@calendar.missouristate.edu
CREATED:20220622T154743Z
LAST-MODIFIED:20220622T154743Z
LOCATION:Plaster Student Union\, Robert W. PSU Parli Room (PSU 313)
SUMMARY:SAC Info Session
DESCRIPTION:Come join the largest student-run programming board on campus 
 that provides free events every week for students.
X-ALT-DESC;FMTTYPE=text/html:&lt;html&gt;&lt;head&gt;&lt;title&gt;&lt;/title&gt;&lt;/head&gt;&lt;body&gt;&lt;p&gt;Co
 me join the largest student-run programming board on campus that provides
  free events every week for students.&lt;/p&gt;&lt;/body&gt;&lt;/html&gt;
DTSTART;TZID=America/Chicago:20220830T150000
DTEND;TZID=America/Chicago:20220830T160000
SEQUENCE:0
URL:116045.jpg
CATEGORIES:Current Students
END:VEVENT
END:VCALENDAR