BEGIN:VCALENDAR
VERSION:2.0
METHOD:PUBLISH
PRODID:-//Missouri State University/Calendar of Events//EN
CALSCALE:GREGORIAN
X-WR-TIMEZONE:America/Chicago
BEGIN:VTIMEZONE
TZID:America/Chicago
BEGIN:DAYLIGHT
TZOFFSETFROM:-0600
TZOFFSETTO:-0500
DTSTART:20070311T020000
RRULE:FREQ=YEARLY;BYMONTH=3;BYDAY=2SU
TZNAME:CDT
END:DAYLIGHT
BEGIN:STANDARD
TZOFFSETFROM:-0500
TZOFFSETTO:-0600
DTSTART:20071104T020000
RRULE:FREQ=YEARLY;BYMONTH=11;BYDAY=1SU
TZNAME:CST
END:STANDARD
END:VTIMEZONE
BEGIN:VEVENT
UID:9ff174af-7264-4893-9a7e-2fd5c76cc2a5.221194@calendar.missouristate.edu
CREATED:20220623T051512Z
LAST-MODIFIED:20220623T051512Z
LOCATION:Hammons Student Center\, John Q.
SUMMARY:Missouri State University Women's Volleyball vs Southern Illinois 
 - All - Pick a Prize Raffle&lt;br /&gt;Students - Airpods Raffle
DESCRIPTION:Missouri State University Women's Volleyball hosts Southern Il
 linois - All - Pick a Prize RaffleStudents - Airpods RaffleTV: ESPN3
X-ALT-DESC;FMTTYPE=text/html:&lt;html&gt;&lt;head&gt;&lt;title&gt;&lt;/title&gt;&lt;/head&gt;&lt;body&gt;Misso
 uri State University Women's Volleyball hosts Southern Illinois - All - P
 ick a Prize Raffle&lt;br /&gt;Students - Airpods Raffle&lt;br&gt;&lt;br&gt;TV: ESPN3&lt;/body&gt;
 &lt;/html&gt;
DTSTART;TZID=America/Chicago:20221116T180000
DTEND;TZID=America/Chicago:20221116T200000
SEQUENCE:0
URL:http://missouristatebears.com/index.aspx?path=wvball
CATEGORIES:Current Students,Future Students,Parents and Family,Alumni,
 Faculty,Staff,Community,Visitors,Athletics
END:VEVENT
END:VCALENDAR