BEGIN:VCALENDAR
VERSION:2.0
METHOD:PUBLISH
PRODID:-//Missouri State University/Calendar of Events//EN
CALSCALE:GREGORIAN
X-WR-TIMEZONE:America/Chicago
BEGIN:VTIMEZONE
TZID:America/Chicago
BEGIN:DAYLIGHT
TZOFFSETFROM:-0600
TZOFFSETTO:-0500
DTSTART:20070311T020000
RRULE:FREQ=YEARLY;BYMONTH=3;BYDAY=2SU
TZNAME:CDT
END:DAYLIGHT
BEGIN:STANDARD
TZOFFSETFROM:-0500
TZOFFSETTO:-0600
DTSTART:20071104T020000
RRULE:FREQ=YEARLY;BYMONTH=11;BYDAY=1SU
TZNAME:CST
END:STANDARD
END:VTIMEZONE
BEGIN:VEVENT
UID:df63df9d-396e-4c60-a519-7c609c1cbddb.221197@calendar.missouristate.edu
CREATED:20220627T171506Z
LAST-MODIFIED:20220627T171506Z
LOCATION:Jay Wasson Idea Loft
SUMMARY:Wes Pratt's retirement reception
DESCRIPTION:Join us in a fond retirement farewell reception for Wes Pratt.
X-ALT-DESC;FMTTYPE=text/html:&lt;html&gt;&lt;head&gt;&lt;title&gt;&lt;/title&gt;&lt;/head&gt;&lt;body&gt;&lt;p&gt;Jo
 in us in a fond retirement farewell reception for Wes Pratt.&lt;/p&gt;&lt;/body&gt;&lt;/
 html&gt;
DTSTART;TZID=America/Chicago:20220718T150000
DTEND;TZID=America/Chicago:20220718T170000
SEQUENCE:0
URL:
CATEGORIES:Public,Alumni,Faculty,Staff
END:VEVENT
END:VCALENDAR