BEGIN:VCALENDAR
VERSION:2.0
METHOD:PUBLISH
PRODID:-//Missouri State University/Calendar of Events//EN
CALSCALE:GREGORIAN
X-WR-TIMEZONE:America/Chicago
BEGIN:VTIMEZONE
TZID:America/Chicago
BEGIN:DAYLIGHT
TZOFFSETFROM:-0600
TZOFFSETTO:-0500
DTSTART:20070311T020000
RRULE:FREQ=YEARLY;BYMONTH=3;BYDAY=2SU
TZNAME:CDT
END:DAYLIGHT
BEGIN:STANDARD
TZOFFSETFROM:-0500
TZOFFSETTO:-0600
DTSTART:20071104T020000
RRULE:FREQ=YEARLY;BYMONTH=11;BYDAY=1SU
TZNAME:CST
END:STANDARD
END:VTIMEZONE
BEGIN:VEVENT
UID:b929d788-bb2e-4e78-bb17-1ceb2e80847a.221198@calendar.missouristate.edu
CREATED:20220628T212240Z
LAST-MODIFIED:20220628T212240Z
LOCATION:Glass Hall\, David D. 486
SUMMARY:Staff Senate Meeting
DESCRIPTION:Join in the monthly Staff Senate meeting. Open to all staff.
X-ALT-DESC;FMTTYPE=text/html:&lt;html&gt;&lt;head&gt;&lt;title&gt;&lt;/title&gt;&lt;/head&gt;&lt;body&gt;&lt;p&gt;Jo
 in in the monthly Staff Senate meeting. Open to all staff.&lt;/p&gt;&lt;/body&gt;&lt;/ht
 ml&gt;
DTSTART;TZID=America/Chicago:20220707T110000
DTEND;TZID=America/Chicago:20220707T130000
SEQUENCE:0
URL:https://www.missouristate.edu/staffsenate/
CATEGORIES:Staff
END:VEVENT
END:VCALENDAR