BEGIN:VCALENDAR
VERSION:2.0
METHOD:PUBLISH
PRODID:-//Missouri State University/Calendar of Events//EN
CALSCALE:GREGORIAN
X-WR-TIMEZONE:America/Chicago
BEGIN:VTIMEZONE
TZID:America/Chicago
BEGIN:DAYLIGHT
TZOFFSETFROM:-0600
TZOFFSETTO:-0500
DTSTART:20070311T020000
RRULE:FREQ=YEARLY;BYMONTH=3;BYDAY=2SU
TZNAME:CDT
END:DAYLIGHT
BEGIN:STANDARD
TZOFFSETFROM:-0500
TZOFFSETTO:-0600
DTSTART:20071104T020000
RRULE:FREQ=YEARLY;BYMONTH=11;BYDAY=1SU
TZNAME:CST
END:STANDARD
END:VTIMEZONE
BEGIN:VEVENT
UID:ef01fc62-7e64-4002-88c1-7dfbbda7e7c3.221199@calendar.missouristate.edu
CREATED:20220629T144911Z
LAST-MODIFIED:20220629T144911Z
LOCATION:Ellis Hall / C. Minor Recital Hall
SUMMARY:MSU Trombone Ensemble ITF Preview Concert
DESCRIPTION:The MSU Trombone Ensemble is a student ensemble that will pres
 ent a concert previewing their upcoming performance at the International 
 Trombone Festival.  This conference is hosted by the International Trombo
 ne Association and is the most prestigious trombone conference in the wor
 ld.  The group will present a concert of trombone ensemble pieces.
X-ALT-DESC;FMTTYPE=text/html:&lt;html&gt;&lt;head&gt;&lt;title&gt;&lt;/title&gt;&lt;/head&gt;&lt;body&gt;&lt;p&gt;&lt;s
 pan&gt;The MSU Trombone Ensemble is a student ensemble that will present a c
 oncert previewing their upcoming performance at the International Trombon
 e Festival.&amp;nbsp\; This conference is hosted by the International Trombon
 e Association and is the most prestigious trombone conference in the worl
 d.&amp;nbsp\; The group will present a concert of trombone ensemble pieces.&lt;/
 span&gt;&lt;/p&gt;&lt;/body&gt;&lt;/html&gt;
DTSTART;TZID=America/Chicago:20220711T120000
DTEND;TZID=America/Chicago:20220711T123000
SEQUENCE:0
URL:http://www.facebook.com/msutrombones
CATEGORIES:Public,Alumni,Current Students,Faculty,Future Students,Staff
END:VEVENT
END:VCALENDAR