BEGIN:VCALENDAR
VERSION:2.0
METHOD:PUBLISH
PRODID:-//Missouri State University/Calendar of Events//EN
CALSCALE:GREGORIAN
X-WR-TIMEZONE:America/Chicago
BEGIN:VTIMEZONE
TZID:America/Chicago
BEGIN:DAYLIGHT
TZOFFSETFROM:-0600
TZOFFSETTO:-0500
DTSTART:20070311T020000
RRULE:FREQ=YEARLY;BYMONTH=3;BYDAY=2SU
TZNAME:CDT
END:DAYLIGHT
BEGIN:STANDARD
TZOFFSETFROM:-0500
TZOFFSETTO:-0600
DTSTART:20071104T020000
RRULE:FREQ=YEARLY;BYMONTH=11;BYDAY=1SU
TZNAME:CST
END:STANDARD
END:VTIMEZONE
BEGIN:VEVENT
UID:95397e94-e4dd-4a38-a30d-60f6b6d07b8c.221299@calendar.missouristate.edu
CREATED:20220705T205016Z
LAST-MODIFIED:20220705T205016Z
LOCATION:Plaster Stadium\, Robert W. Rain Location: Hammons Student Center
SUMMARY:Welcome Weekend: Playfair\, Class Photo and Rally in the Valley
DESCRIPTION:It's teambuilding\, comedy and a lot of fun. You'll laugh\, me
 et new friends and become part of the Missouri State community through ga
 mes and activities in a positive and supportive environment. A pep rally 
 (we call it Rally in the Valley) follows at 8:30 p.m.\n\n\nPlus\, be part
  of history as we take a group photo of the class of 2026.
X-ALT-DESC;FMTTYPE=text/html:&lt;html&gt;&lt;head&gt;&lt;title&gt;&lt;/title&gt;&lt;/head&gt;&lt;body&gt;&lt;p&gt;It
 's teambuilding\, comedy and a lot of fun. You'll laugh\, meet new friend
 s and become part of the Missouri State community through games and activ
 ities in a positive and supportive environment. A pep rally (we call it R
 ally in the Valley) follows at 8:30 p.m.&lt;/p&gt;\n&lt;p&gt;Plus\, be part of histor
 y as we take a group photo of the class of 2026.&lt;/p&gt;&lt;/body&gt;&lt;/html&gt;
DTSTART;TZID=America/Chicago:20220819T190000
DTEND;TZID=America/Chicago:20220819T203000
SEQUENCE:1
URL:https://calendar.missouristate.edu/viewevent.aspx?eventid=116094&amp;occur
 renceid=221299
CATEGORIES:Current Students
END:VEVENT
END:VCALENDAR