BEGIN:VCALENDAR
VERSION:2.0
METHOD:PUBLISH
PRODID:-//Missouri State University/Calendar of Events//EN
CALSCALE:GREGORIAN
X-WR-TIMEZONE:America/Chicago
BEGIN:VTIMEZONE
TZID:America/Chicago
BEGIN:DAYLIGHT
TZOFFSETFROM:-0600
TZOFFSETTO:-0500
DTSTART:20070311T020000
RRULE:FREQ=YEARLY;BYMONTH=3;BYDAY=2SU
TZNAME:CDT
END:DAYLIGHT
BEGIN:STANDARD
TZOFFSETFROM:-0500
TZOFFSETTO:-0600
DTSTART:20071104T020000
RRULE:FREQ=YEARLY;BYMONTH=11;BYDAY=1SU
TZNAME:CST
END:STANDARD
END:VTIMEZONE
BEGIN:VEVENT
UID:4eb32b0f-c7f3-4351-a3ea-79d99339a049.221300@calendar.missouristate.edu
CREATED:20220705T205220Z
LAST-MODIFIED:20220705T205220Z
LOCATION:Plaster Student Union\, Robert W. 313
SUMMARY:Welcome Weekend: Scrapbook Corner
DESCRIPTION:This come-and-go crafting event is for students who want to ch
 annel their creativity. You can learn how to scrapbook\, make a greeting 
 card for your friends and family\, and more.
X-ALT-DESC;FMTTYPE=text/html:&lt;html&gt;&lt;head&gt;&lt;title&gt;&lt;/title&gt;&lt;/head&gt;&lt;body&gt;&lt;p&gt;&lt;s
 pan&gt;This come-and-go crafting event is for students who want to channel t
 heir creativity. You can learn how to scrapbook\, make a greeting card fo
 r your friends and family\, and more.&lt;/span&gt;&lt;/p&gt;&lt;/body&gt;&lt;/html&gt;
DTSTART;TZID=America/Chicago:20220819T140000
DTEND;TZID=America/Chicago:20220819T150000
SEQUENCE:0
URL:https://calendar.missouristate.edu/viewevent.aspx?eventid=116095&amp;occur
 renceid=221300
CATEGORIES:Current Students
END:VEVENT
END:VCALENDAR