BEGIN:VCALENDAR
VERSION:2.0
METHOD:PUBLISH
PRODID:-//Missouri State University/Calendar of Events//EN
CALSCALE:GREGORIAN
X-WR-TIMEZONE:America/Chicago
BEGIN:VTIMEZONE
TZID:America/Chicago
BEGIN:DAYLIGHT
TZOFFSETFROM:-0600
TZOFFSETTO:-0500
DTSTART:20070311T020000
RRULE:FREQ=YEARLY;BYMONTH=3;BYDAY=2SU
TZNAME:CDT
END:DAYLIGHT
BEGIN:STANDARD
TZOFFSETFROM:-0500
TZOFFSETTO:-0600
DTSTART:20071104T020000
RRULE:FREQ=YEARLY;BYMONTH=11;BYDAY=1SU
TZNAME:CST
END:STANDARD
END:VTIMEZONE
BEGIN:VEVENT
UID:ebade559-a657-4133-a893-5250294eff8f.221301@calendar.missouristate.edu
CREATED:20220706T132731Z
LAST-MODIFIED:20220706T132731Z
LOCATION:Davis-Harrington Welcome Center
SUMMARY:President's Reception for New Family Members
DESCRIPTION:Join President Smart and Gail Smart for a wonderful reception 
 in the beautiful Welcome Center. After a day of moving\, you'll have the 
 opportunity to visit with campus administrators\, faculty and staff while
  enjoying some delicious treats from Missouri State Catering.\n\n\nRSVP r
 equested but not required.
X-ALT-DESC;FMTTYPE=text/html:&lt;html&gt;&lt;head&gt;&lt;title&gt;&lt;/title&gt;&lt;/head&gt;&lt;body&gt;&lt;p&gt;Jo
 in President Smart and Gail Smart for a wonderful reception in the beauti
 ful Welcome Center. After a day of moving\, you'll have the opportunity t
 o visit with campus administrators\, faculty and staff while enjoying som
 e delicious treats from Missouri State Catering.&lt;/p&gt;\n&lt;p&gt;&lt;a href="https:/
 /dosaforms.missouristate.edu/view.php?id=198075"&gt;RSVP requested but not r
 equired&lt;/a&gt;.&lt;/p&gt;&lt;/body&gt;&lt;/html&gt;
DTSTART;TZID=America/Chicago:20220819T183000
DTEND;TZID=America/Chicago:20220819T193000
SEQUENCE:0
URL:https://www.missouristate.edu/BearsFamilies/welcomeweekendfamily2022.h
 tm
CATEGORIES:Public
END:VEVENT
END:VCALENDAR