BEGIN:VCALENDAR
VERSION:2.0
METHOD:PUBLISH
PRODID:-//Missouri State University/Calendar of Events//EN
CALSCALE:GREGORIAN
X-WR-TIMEZONE:America/Chicago
BEGIN:VTIMEZONE
TZID:America/Chicago
BEGIN:DAYLIGHT
TZOFFSETFROM:-0600
TZOFFSETTO:-0500
DTSTART:20070311T020000
RRULE:FREQ=YEARLY;BYMONTH=3;BYDAY=2SU
TZNAME:CDT
END:DAYLIGHT
BEGIN:STANDARD
TZOFFSETFROM:-0500
TZOFFSETTO:-0600
DTSTART:20071104T020000
RRULE:FREQ=YEARLY;BYMONTH=11;BYDAY=1SU
TZNAME:CST
END:STANDARD
END:VTIMEZONE
BEGIN:VEVENT
UID:4d3a6dfb-d47a-48ae-b39f-a05b99b4bb60.221302@calendar.missouristate.edu
CREATED:20220706T132742Z
LAST-MODIFIED:20220706T132742Z
LOCATION:Blair-Shannon House Dining Center
SUMMARY:Welcome Weekend: See You Later Brunch
DESCRIPTION:Brought your family with you? This is a good time to enjoy a m
 eal with them before they go home. Up to two family members can eat free 
 with students (everyone else must pay). Even if you didn’t bring your fam
 ily\, this is a great opportunity to meet other students and enjoy a nice
  brunch. 
X-ALT-DESC;FMTTYPE=text/html:&lt;html&gt;&lt;head&gt;&lt;title&gt;&lt;/title&gt;&lt;/head&gt;&lt;body&gt;&lt;p&gt;&lt;s
 pan&gt;Brought your family with you? This is a good time to enjoy a meal wit
 h them before they go home. Up to two family members can eat free with st
 udents (everyone else must pay).&amp;nbsp\;&lt;/span&gt;&lt;br&gt;&lt;span&gt;Even if you didn’
 t bring your family\, this is a great opportunity to meet other students 
 and enjoy a nice brunch.&amp;nbsp\;&lt;/span&gt;&lt;/p&gt;&lt;/body&gt;&lt;/html&gt;
DTSTART;TZID=America/Chicago:20220820T100000
DTEND;TZID=America/Chicago:20220820T130000
SEQUENCE:0
URL:https://www.missouristate.edu/BearsFamilies/welcomeweekendfamily2022.h
 tm
CATEGORIES:Current Students
END:VEVENT
END:VCALENDAR