BEGIN:VCALENDAR
VERSION:2.0
METHOD:PUBLISH
PRODID:-//Missouri State University/Calendar of Events//EN
CALSCALE:GREGORIAN
X-WR-TIMEZONE:America/Chicago
BEGIN:VTIMEZONE
TZID:America/Chicago
BEGIN:DAYLIGHT
TZOFFSETFROM:-0600
TZOFFSETTO:-0500
DTSTART:20070311T020000
RRULE:FREQ=YEARLY;BYMONTH=3;BYDAY=2SU
TZNAME:CDT
END:DAYLIGHT
BEGIN:STANDARD
TZOFFSETFROM:-0500
TZOFFSETTO:-0600
DTSTART:20071104T020000
RRULE:FREQ=YEARLY;BYMONTH=11;BYDAY=1SU
TZNAME:CST
END:STANDARD
END:VTIMEZONE
BEGIN:VEVENT
UID:0bdc0a8d-3fe5-4b77-9875-47bb2a11f156.221311@calendar.missouristate.edu
CREATED:20220707T051511Z
LAST-MODIFIED:20220707T051511Z
LOCATION:West Lafayette\, Ind.
SUMMARY:Missouri State University Swimming and Diving at Purdue Invitation
 al
DESCRIPTION:Missouri State University Swimming and Diving visits Purdue In
 vitational
X-ALT-DESC;FMTTYPE=text/html:&lt;html&gt;&lt;head&gt;&lt;title&gt;&lt;/title&gt;&lt;/head&gt;&lt;body&gt;Misso
 uri State University Swimming and Diving visits Purdue Invitational&lt;/body
 &gt;&lt;/html&gt;
DTSTART;TZID=America/Chicago:20221116T093000
DTEND;TZID=America/Chicago:20221116T000000
SEQUENCE:1
URL:http://missouristatebears.com/index.aspx?path=swim
CATEGORIES:Current Students,Future Students,Parents and Family,Alumni,
 Faculty,Staff,Community,Visitors,Athletics
END:VEVENT
END:VCALENDAR