BEGIN:VCALENDAR
VERSION:2.0
METHOD:PUBLISH
PRODID:-//Missouri State University/Calendar of Events//EN
CALSCALE:GREGORIAN
X-WR-TIMEZONE:America/Chicago
BEGIN:VTIMEZONE
TZID:America/Chicago
BEGIN:DAYLIGHT
TZOFFSETFROM:-0600
TZOFFSETTO:-0500
DTSTART:20070311T020000
RRULE:FREQ=YEARLY;BYMONTH=3;BYDAY=2SU
TZNAME:CDT
END:DAYLIGHT
BEGIN:STANDARD
TZOFFSETFROM:-0500
TZOFFSETTO:-0600
DTSTART:20071104T020000
RRULE:FREQ=YEARLY;BYMONTH=11;BYDAY=1SU
TZNAME:CST
END:STANDARD
END:VTIMEZONE
BEGIN:VEVENT
UID:42d14291-78f3-48be-a03e-3eddd7ead176.221317@calendar.missouristate.edu
CREATED:20220707T051513Z
LAST-MODIFIED:20220707T051513Z
LOCATION:Oxford\, Ohio
SUMMARY:Missouri State University Swimming and Diving vs MAC Men's Champio
 nship
DESCRIPTION:Missouri State University Swimming and Diving plays MAC Men's 
 Championship
X-ALT-DESC;FMTTYPE=text/html:&lt;html&gt;&lt;head&gt;&lt;title&gt;&lt;/title&gt;&lt;/head&gt;&lt;body&gt;Misso
 uri State University Swimming and Diving plays MAC Men's Championship&lt;/bo
 dy&gt;&lt;/html&gt;
DTSTART;TZID=America/Chicago:20230301T170000
DTEND;TZID=America/Chicago:20230301T000000
SEQUENCE:2
URL:http://missouristatebears.com/index.aspx?path=swim
CATEGORIES:Current Students,Future Students,Parents and Family,Alumni,
 Faculty,Staff,Community,Visitors,Athletics
END:VEVENT
END:VCALENDAR