BEGIN:VCALENDAR
VERSION:2.0
METHOD:PUBLISH
PRODID:-//Missouri State University/Calendar of Events//EN
CALSCALE:GREGORIAN
X-WR-TIMEZONE:America/Chicago
BEGIN:VTIMEZONE
TZID:America/Chicago
BEGIN:DAYLIGHT
TZOFFSETFROM:-0600
TZOFFSETTO:-0500
DTSTART:20070311T020000
RRULE:FREQ=YEARLY;BYMONTH=3;BYDAY=2SU
TZNAME:CDT
END:DAYLIGHT
BEGIN:STANDARD
TZOFFSETFROM:-0500
TZOFFSETTO:-0600
DTSTART:20071104T020000
RRULE:FREQ=YEARLY;BYMONTH=11;BYDAY=1SU
TZNAME:CST
END:STANDARD
END:VTIMEZONE
BEGIN:VEVENT
UID:97254104-8ee9-4efa-84e6-12d286bfe4ee.221340@calendar.missouristate.edu
CREATED:20220708T125024Z
LAST-MODIFIED:20220708T125024Z
LOCATION:
SUMMARY:Slow Viewing Night at Carolla Arts Exhibition Center
DESCRIPTION:Join us in Slow Viewing Giovanni Valderas' "Casita Triste" cur
 rently on view at the Carolla Arts Exhibition Center\, from 5-6 PM on Thu
 rsday\, August 4th.\n\n\n\n\n\nSlow viewing is a supportive practice for 
 anyone wanting to spend time with artwork\, slow down\, or develop their 
 skills of interpretation\, observation\, and discussing art. Guests will 
 collectively spend an hour carefully observing and speaking about Valdera
 s' work. Resulting in a deep understanding of how they and others relate 
 to artwork and each other.\n\n\n\n\n\nThis program is developed and facil
 itated by the artist Shauna LeAnn Smith. All are welcome and encouraged t
 o join.
X-ALT-DESC;FMTTYPE=text/html:&lt;html&gt;&lt;head&gt;&lt;title&gt;&lt;/title&gt;&lt;/head&gt;&lt;body&gt;&lt;p&gt;&lt;/
 p&gt;\n&lt;p&gt;Join us in Slow Viewing Giovanni Valderas' "Casita Triste" current
 ly on view at the Carolla Arts Exhibition Center\, from 5-6 PM on Thursda
 y\, August 4th.&lt;/p&gt;\n&lt;p&gt;&lt;/p&gt;\n&lt;p&gt;Slow viewing is a supportive practice fo
 r anyone wanting to spend time with artwork\, slow down\, or develop thei
 r skills of interpretation\, observation\, and discussing art. Guests wil
 l collectively spend an hour carefully observing and speaking about Valde
 ras' work. Resulting in a deep understanding of how they and others relat
 e to artwork and each other.&lt;/p&gt;\n&lt;p&gt;&lt;/p&gt;\n&lt;p&gt;This program is developed a
 nd facilitated by the artist Shauna LeAnn Smith. All are welcome and enco
 uraged to join.&lt;/p&gt;\n&lt;p&gt;&lt;/p&gt;\n&lt;p&gt;&lt;/p&gt;&lt;/body&gt;&lt;/html&gt;
DTSTART;TZID=America/Chicago:20220804T170000
DTEND;TZID=America/Chicago:20220804T180000
SEQUENCE:0
URL:https://galleries.missouristate.edu/Carolla/default.htm
CATEGORIES:Public,Alumni,Current Students,Faculty,Future Students,Staff
END:VEVENT
END:VCALENDAR