BEGIN:VCALENDAR
VERSION:2.0
METHOD:PUBLISH
PRODID:-//Missouri State University/Calendar of Events//EN
CALSCALE:GREGORIAN
X-WR-TIMEZONE:America/Chicago
BEGIN:VTIMEZONE
TZID:America/Chicago
BEGIN:DAYLIGHT
TZOFFSETFROM:-0600
TZOFFSETTO:-0500
DTSTART:20070311T020000
RRULE:FREQ=YEARLY;BYMONTH=3;BYDAY=2SU
TZNAME:CDT
END:DAYLIGHT
BEGIN:STANDARD
TZOFFSETFROM:-0500
TZOFFSETTO:-0600
DTSTART:20071104T020000
RRULE:FREQ=YEARLY;BYMONTH=11;BYDAY=1SU
TZNAME:CST
END:STANDARD
END:VTIMEZONE
BEGIN:VEVENT
UID:0ba12f58-32ec-4060-afbd-1ab88925caea.221345@calendar.missouristate.edu
CREATED:20220711T154853Z
LAST-MODIFIED:20220711T154853Z
LOCATION:
SUMMARY:Pineapple Whip for Staff
DESCRIPTION:Hey MSU Staff! Let's celebrate the new *fiscal* year with some
  Pineapple Whip!\n\n\nPineapple Whip will be on campus\, Thursday\, July 
 14 from 12-3pm in Bear Village just north of Plaster Stadium. \n\n\nEnjoy
 !\n\n\n--\n\n\nStaff Senate
X-ALT-DESC;FMTTYPE=text/html:&lt;html&gt;&lt;head&gt;&lt;title&gt;&lt;/title&gt;&lt;/head&gt;&lt;body&gt;&lt;p&gt;&lt;e
 m&gt;&lt;strong&gt;&lt;/strong&gt;Hey MSU Staff! Let's celebrate the new *fiscal* year w
 ith some Pineapple Whip!&lt;/em&gt;&lt;/p&gt;\n&lt;p&gt;&lt;em&gt;Pineapple Whip will be on campu
 s\, Thursday\, July 14 from 12-3pm in Bear Village just north of Plaster 
 Stadium.&amp;nbsp\;&lt;/em&gt;&lt;/p&gt;\n&lt;p&gt;Enjoy!&lt;/p&gt;\n&lt;p&gt;--&lt;/p&gt;\n&lt;p&gt;Staff Senate&lt;/p&gt;&lt;/
 body&gt;&lt;/html&gt;
DTSTART;TZID=America/Chicago:20220714T120000
DTEND;TZID=America/Chicago:20220714T150000
SEQUENCE:0
URL:116116.jpg
CATEGORIES:Staff
END:VEVENT
END:VCALENDAR