BEGIN:VCALENDAR
VERSION:2.0
METHOD:PUBLISH
PRODID:-//Missouri State University/Calendar of Events//EN
CALSCALE:GREGORIAN
X-WR-TIMEZONE:America/Chicago
BEGIN:VTIMEZONE
TZID:America/Chicago
BEGIN:DAYLIGHT
TZOFFSETFROM:-0600
TZOFFSETTO:-0500
DTSTART:20070311T020000
RRULE:FREQ=YEARLY;BYMONTH=3;BYDAY=2SU
TZNAME:CDT
END:DAYLIGHT
BEGIN:STANDARD
TZOFFSETFROM:-0500
TZOFFSETTO:-0600
DTSTART:20071104T020000
RRULE:FREQ=YEARLY;BYMONTH=11;BYDAY=1SU
TZNAME:CST
END:STANDARD
END:VTIMEZONE
BEGIN:VEVENT
UID:37cc1c7d-5794-48e9-a271-6299559a4a93.221346@calendar.missouristate.edu
CREATED:20220714T143313Z
LAST-MODIFIED:20220714T143313Z
LOCATION:West Mall (Carrington)
SUMMARY:Student Organization Festival
DESCRIPTION:Come out to Bear Fest Village to learn about our nearly 300 st
 udent organizations and how to get involved on campus! This annual event 
 is THE best way to meet tons of new students and find your people at Miss
 ouri State.
X-ALT-DESC;FMTTYPE=text/html:&lt;html&gt;&lt;head&gt;&lt;title&gt;&lt;/title&gt;&lt;/head&gt;&lt;body&gt;&lt;p&gt;Co
 me out to Bear Fest Village to learn about our nearly 300 student organiz
 ations and how to get involved on campus! This annual event is THE best w
 ay to meet tons of new students and find your people at Missouri State.&lt;/
 p&gt;&lt;/body&gt;&lt;/html&gt;
DTSTART;TZID=America/Chicago:20220821T150000
DTEND;TZID=America/Chicago:20220821T170000
SEQUENCE:0
URL:https://www.missouristate.edu/Welcome/default.htm
CATEGORIES:Public,Current Students,Faculty,Staff
END:VEVENT
END:VCALENDAR