BEGIN:VCALENDAR
VERSION:2.0
METHOD:PUBLISH
PRODID:-//Missouri State University/Calendar of Events//EN
CALSCALE:GREGORIAN
X-WR-TIMEZONE:America/Chicago
BEGIN:VTIMEZONE
TZID:America/Chicago
BEGIN:DAYLIGHT
TZOFFSETFROM:-0600
TZOFFSETTO:-0500
DTSTART:20070311T020000
RRULE:FREQ=YEARLY;BYMONTH=3;BYDAY=2SU
TZNAME:CDT
END:DAYLIGHT
BEGIN:STANDARD
TZOFFSETFROM:-0500
TZOFFSETTO:-0600
DTSTART:20071104T020000
RRULE:FREQ=YEARLY;BYMONTH=11;BYDAY=1SU
TZNAME:CST
END:STANDARD
END:VTIMEZONE
BEGIN:VEVENT
UID:9832a6c9-fc6a-490e-9e2c-251b6bf2f8e6.221349@calendar.missouristate.edu
CREATED:20220830T154014Z
LAST-MODIFIED:20220830T154014Z
LOCATION:Ann Kampeter Health Sciences Hall
SUMMARY:Ann Kampeter Health Sciences Hall Dedication
DESCRIPTION:Join us for the dedication ceremony of the newly renovated Ann
  Kampeter Health Sciences Hall. The dedication will take place on the sou
 th side of the building. Tours will follow the ceremony for those interes
 ted. 
X-ALT-DESC;FMTTYPE=text/html:&lt;html&gt;&lt;head&gt;&lt;title&gt;&lt;/title&gt;&lt;/head&gt;&lt;body&gt;&lt;p&gt;&lt;s
 pan color="#0a0a0a"&gt;&lt;span&gt;Join us for the dedication ceremony of the newl
 y renovated Ann Kampeter Health Sciences Hall.&amp;nbsp\;The dedication will 
 take place on the south side of the building. Tours will follow the cerem
 ony for those interested.&amp;nbsp\;&lt;/span&gt;&lt;/span&gt;&lt;/p&gt;&lt;/body&gt;&lt;/html&gt;
DTSTART;TZID=America/Chicago:20220906T133000
DTEND;TZID=America/Chicago:20220906T143000
SEQUENCE:0
URL:
CATEGORIES:Public,Alumni,Current Students,Faculty,Staff
END:VEVENT
END:VCALENDAR