BEGIN:VCALENDAR
VERSION:2.0
METHOD:PUBLISH
PRODID:-//Missouri State University/Calendar of Events//EN
CALSCALE:GREGORIAN
X-WR-TIMEZONE:America/Chicago
BEGIN:VTIMEZONE
TZID:America/Chicago
BEGIN:DAYLIGHT
TZOFFSETFROM:-0600
TZOFFSETTO:-0500
DTSTART:20070311T020000
RRULE:FREQ=YEARLY;BYMONTH=3;BYDAY=2SU
TZNAME:CDT
END:DAYLIGHT
BEGIN:STANDARD
TZOFFSETFROM:-0500
TZOFFSETTO:-0600
DTSTART:20071104T020000
RRULE:FREQ=YEARLY;BYMONTH=11;BYDAY=1SU
TZNAME:CST
END:STANDARD
END:VTIMEZONE
BEGIN:VEVENT
UID:00000000-0000-0000-0000-000000000000.221350@calendar.missouristate.edu
CREATED:20220718T224537Z
LAST-MODIFIED:20220718T224537Z
LOCATION:To Be Determined
SUMMARY:Lunch with a Genius: Dr. Amy Hulme
DESCRIPTION:The Missouri State University Foundation is excited to host th
 is new series of luncheons designed to showcase the many types of genius 
 at Missouri State University: from faculty research and initiatives to aw
 ard-winning programs developed by staff\, to students winning national aw
 ards. Attendees will have an opportunity have personal conversation with 
 these geniuses and see first-hand the amazing work and incredible impact 
 they have.
X-ALT-DESC;FMTTYPE=text/html:&lt;html&gt;&lt;head&gt;&lt;title&gt;&lt;/title&gt;&lt;/head&gt;&lt;body&gt;The M
 issouri State University Foundation is excited to host this new series of
  luncheons designed to showcase the many types of genius at Missouri Stat
 e University: from faculty research and initiatives to award-winning prog
 rams developed by staff\, to students winning national awards. Attendees 
 will have an opportunity have personal conversation with these geniuses a
 nd see first-hand the amazing work and incredible impact they have.&lt;/body
 &gt;&lt;/html&gt;
DTSTART;TZID=America/Chicago:20221102T120000
DTEND;TZID=America/Chicago:20221102T130000
SEQUENCE:0
URL:https://missouristate.imodules.com?sid=1691&amp;gid=2&amp;pgid=2845&amp;cid=5055&amp;e
 cid=5055&amp;ciid=17088&amp;crid=0
CATEGORIES:Public,Alumni,Parents and Family,Visitors
END:VEVENT
END:VCALENDAR