BEGIN:VCALENDAR
VERSION:2.0
METHOD:PUBLISH
PRODID:-//Missouri State University/Calendar of Events//EN
CALSCALE:GREGORIAN
X-WR-TIMEZONE:America/Chicago
BEGIN:VTIMEZONE
TZID:America/Chicago
BEGIN:DAYLIGHT
TZOFFSETFROM:-0600
TZOFFSETTO:-0500
DTSTART:20070311T020000
RRULE:FREQ=YEARLY;BYMONTH=3;BYDAY=2SU
TZNAME:CDT
END:DAYLIGHT
BEGIN:STANDARD
TZOFFSETFROM:-0500
TZOFFSETTO:-0600
DTSTART:20071104T020000
RRULE:FREQ=YEARLY;BYMONTH=11;BYDAY=1SU
TZNAME:CST
END:STANDARD
END:VTIMEZONE
BEGIN:VEVENT
UID:ee6b1a0e-4549-473d-a79b-a968584cb6ff.221351@calendar.missouristate.edu
CREATED:20220719T181633Z
LAST-MODIFIED:20220719T181633Z
LOCATION:Plaster Student Union\, Robert W. Ballroom
SUMMARY:Student Employment Job Fair
DESCRIPTION:Attend the Student Employment Job Fair where you can visit wit
 h on-campus and off-campus employers looking to hire student employees.
X-ALT-DESC;FMTTYPE=text/html:&lt;html&gt;&lt;head&gt;&lt;title&gt;&lt;/title&gt;&lt;/head&gt;&lt;body&gt;&lt;p&gt;At
 tend the Student Employment Job Fair where you can visit with on-campus a
 nd off-campus employers looking to hire student employees.&lt;/p&gt;&lt;/body&gt;&lt;/ht
 ml&gt;
DTSTART;TZID=America/Chicago:20220831T113000
DTEND;TZID=America/Chicago:20220831T140000
SEQUENCE:0
URL:http://www.MissouriState.edu/findajob
CATEGORIES:Public,Current Students,Faculty,Future Students,Staff
END:VEVENT
END:VCALENDAR