BEGIN:VCALENDAR
VERSION:2.0
METHOD:PUBLISH
PRODID:-//Missouri State University/Calendar of Events//EN
CALSCALE:GREGORIAN
X-WR-TIMEZONE:America/Chicago
BEGIN:VTIMEZONE
TZID:America/Chicago
BEGIN:DAYLIGHT
TZOFFSETFROM:-0600
TZOFFSETTO:-0500
DTSTART:20070311T020000
RRULE:FREQ=YEARLY;BYMONTH=3;BYDAY=2SU
TZNAME:CDT
END:DAYLIGHT
BEGIN:STANDARD
TZOFFSETFROM:-0500
TZOFFSETTO:-0600
DTSTART:20071104T020000
RRULE:FREQ=YEARLY;BYMONTH=11;BYDAY=1SU
TZNAME:CST
END:STANDARD
END:VTIMEZONE
BEGIN:VEVENT
UID:8bf3e102-62be-4b05-a8d4-181e2175be93.221362@calendar.missouristate.edu
CREATED:20220719T212317Z
LAST-MODIFIED:20220719T212317Z
LOCATION:Meyer Library\, Duane G. 206
SUMMARY:Faculty Women Writing Circle 
DESCRIPTION:Join a cross-disciplinary group of faculty and engage in an ac
 tive\, collaborative\, semester-long program about enhancing teaching and
  learning. FLCs are teams of 8 to 10 faculty and members will engage in f
 requent seminars and activities that provide learning\, development\, and
  community building. Through participation in their community\, faculty w
 ill build a product or plan in support of enhancing teaching and learning
 . FLC’s are facilitated by FCTL Faculty Fellows or staff and usually meet
  5 times during the semester for a total of 10 contact hours.  Members th
 at successfully complete goals and objectives set by their community will
  be eligible for a $500 mini grant to extend their learning and implement
  their chosen project. \n\n\nThe goal of this FLC\, led by Dr. Nicole Wes
 t\, is to enhance the personal well-being and professional success of wom
 en faculty at MSU by increasing their scholarly productivity and providin
 g a community of collegial support. We will work through the book “Writin
 g your Journal Article in Twelve Weeks: A Guide to Academic Publishing Su
 ccess\,” with a faculty partner and develop a scholarly manuscript for pu
 blication by the end of the semester.\n\n\nPlease note that this is a ser
 ies of sessions and you must register through My Learning Connection to b
 e part of this Faculty Learning Community. 
X-ALT-DESC;FMTTYPE=text/html:&lt;html&gt;&lt;head&gt;&lt;title&gt;&lt;/title&gt;&lt;/head&gt;&lt;body&gt;&lt;p&gt;Jo
 in a cross-disciplinary group of faculty and engage in an active\, collab
 orative\, semester-long program about enhancing teaching and learning. FL
 Cs are teams of 8 to 10 faculty and members will engage in frequent semin
 ars and activities that provide learning\, development\, and community bu
 ilding. Through participation in their community\, faculty will build a p
 roduct or plan in support of enhancing teaching and learning. FLC’s are f
 acilitated by FCTL Faculty Fellows or staff and usually meet 5 times duri
 ng the semester for a total of 10 contact hours.&amp;nbsp\; Members that succ
 essfully complete goals and objectives set by their community will be eli
 gible for a $500 mini grant to extend their learning and implement their 
 chosen project.&amp;nbsp\;&lt;/p&gt;\n&lt;p&gt;The goal of this FLC\, led by Dr. Nicole W
 est\, is to enhance the personal well-being and professional success of&amp;n
 bsp\;women&amp;nbsp\;faculty at MSU by increasing their scholarly productivit
 y and providing a community of collegial support.&amp;nbsp\;We&amp;nbsp\;will wor
 k through the book “Writing your Journal Article in Twelve Weeks: A Guide
  to Academic Publishing Success\,” with a faculty partner and develop a s
 cholarly manuscript for publication by the end of the semester.&lt;/p&gt;\n&lt;p&gt;P
 lease note that this is a series of sessions and you must register throug
 h My Learning Connection to be part of this Faculty Learning Community.&amp;n
 bsp\;&lt;/p&gt;&lt;/body&gt;&lt;/html&gt;
DTSTART;TZID=America/Chicago:20220824T130000
DTEND;TZID=America/Chicago:20220824T150000
SEQUENCE:1
URL:http://www.missouristate.edu/fctl
CATEGORIES:Faculty
END:VEVENT
END:VCALENDAR