BEGIN:VCALENDAR
VERSION:2.0
METHOD:PUBLISH
PRODID:-//Missouri State University/Calendar of Events//EN
CALSCALE:GREGORIAN
X-WR-TIMEZONE:America/Chicago
BEGIN:VTIMEZONE
TZID:America/Chicago
BEGIN:DAYLIGHT
TZOFFSETFROM:-0600
TZOFFSETTO:-0500
DTSTART:20070311T020000
RRULE:FREQ=YEARLY;BYMONTH=3;BYDAY=2SU
TZNAME:CDT
END:DAYLIGHT
BEGIN:STANDARD
TZOFFSETFROM:-0500
TZOFFSETTO:-0600
DTSTART:20071104T020000
RRULE:FREQ=YEARLY;BYMONTH=11;BYDAY=1SU
TZNAME:CST
END:STANDARD
END:VTIMEZONE
BEGIN:VEVENT
UID:b13c7d70-32ad-4d7d-b6a1-61e262f7dd2d.221377@calendar.missouristate.edu
CREATED:20221013T154955Z
LAST-MODIFIED:20221013T154955Z
LOCATION:Great Southern Bank Arena
SUMMARY:Onward\, Upward: The Celebration
DESCRIPTION:The Celebration will be hosted by actor\, alumnus and campaign
  chair John Goodman.\n\n\nThe Celebration will feature a live performance
  by Grammy-winning singer\, songwriter and voice actress Tori Kelly. Kell
 y voiced Meena in “Sing” (2016) and “Sing 2” (2021).\n\n\nThe celebration
  will include:\n\n\n\nA warm-up performance by award-winning band KC FLO 
 from Kansas City\, Missouri.\nA special musical set and performance by Ke
 lly.\nSpecial appearances\, collaborations and performances by the MSU Gr
 and Chorus\, MSU Pride Band and color guard\, and other notable guests.\n
 \nJoin us for an unforgettable celebration!\n\n\nStart The Celebration wi
 th The Best Waiting Line at 6 p.m.\n\n\nJoin MSU's 2022-23 Student Govern
 ment Association leaders for music and fun in front of Great Southern Ban
 k Arena before doors open to the public.\n\n\nNo ticket is required to at
 tend The Celebration. The doors open to the public at 7 p.m. and showtime
  is around 7:30 p.m.\n\n\nFree swag will be offered to the first 2\,500 g
 uests.
X-ALT-DESC;FMTTYPE=text/html:&lt;html&gt;&lt;head&gt;&lt;title&gt;&lt;/title&gt;&lt;/head&gt;&lt;body&gt;&lt;p&gt;Th
 e Celebration will be hosted by actor\, alumnus and campaign chair John G
 oodman.&lt;/p&gt;\n&lt;p&gt;The Celebration will feature a live performance by Grammy
 -winning singer\, songwriter and voice actress Tori Kelly. Kelly voiced M
 eena in “Sing” (2016) and “Sing 2” (2021).&lt;/p&gt;\n&lt;p&gt;The celebration will i
 nclude:&lt;/p&gt;\n&lt;ul&gt;\n&lt;li&gt;A warm-up performance by award-winning band KC FLO
  from Kansas City\, Missouri.&lt;/li&gt;\n&lt;li&gt;A special musical set and perform
 ance by Kelly.&lt;/li&gt;\n&lt;li&gt;Special appearances\, collaborations and perform
 ances by the MSU Grand Chorus\, MSU Pride Band and color guard\, and othe
 r notable guests.&lt;/li&gt;\n&lt;/ul&gt;\n&lt;p&gt;&lt;strong&gt;Join us for an unforgettable ce
 lebration!&lt;/strong&gt;&lt;/p&gt;\n&lt;p&gt;Start The Celebration with The Best Waiting L
 ine at 6 p.m.&lt;/p&gt;\n&lt;p&gt;Join MSU's 2022-23 Student Government Association l
 eaders for music and fun in front of Great Southern Bank Arena before doo
 rs open to the public.&lt;/p&gt;\n&lt;p&gt;No ticket is required to attend The Celebr
 ation. The doors open to the public at 7 p.m. and showtime is around 7:30
  p.m.&lt;/p&gt;\n&lt;p&gt;Free swag will be offered to the first 2\,500 guests.&lt;/p&gt;&lt;/
 body&gt;&lt;/html&gt;
DTSTART;TZID=America/Chicago:20221029T190000
DTEND;TZID=America/Chicago:20221029T210000
SEQUENCE:0
URL:https://www.missouristate.edu/OnwardUpward/TheCelebration/
CATEGORIES:Public,Alumni,Current Students,Faculty,Future Students,Staff
END:VEVENT
END:VCALENDAR