BEGIN:VCALENDAR
VERSION:2.0
METHOD:PUBLISH
PRODID:-//Missouri State University/Calendar of Events//EN
CALSCALE:GREGORIAN
X-WR-TIMEZONE:America/Chicago
BEGIN:VTIMEZONE
TZID:America/Chicago
BEGIN:DAYLIGHT
TZOFFSETFROM:-0600
TZOFFSETTO:-0500
DTSTART:20070311T020000
RRULE:FREQ=YEARLY;BYMONTH=3;BYDAY=2SU
TZNAME:CDT
END:DAYLIGHT
BEGIN:STANDARD
TZOFFSETFROM:-0500
TZOFFSETTO:-0600
DTSTART:20071104T020000
RRULE:FREQ=YEARLY;BYMONTH=11;BYDAY=1SU
TZNAME:CST
END:STANDARD
END:VTIMEZONE
BEGIN:VEVENT
UID:dedb46a9-d645-4bd2-9068-600fc8171260.221436@calendar.missouristate.edu
CREATED:20220721T175846Z
LAST-MODIFIED:20220721T175846Z
LOCATION:Meyer Library\, Duane G. 206
SUMMARY:New Learning Technologies and Improving Learning for All
DESCRIPTION:Join a cross-disciplinary group of faculty and engage in an ac
 tive\, collaborative\, semester-long program about enhancing teaching and
  learning. FLCs are teams of 8 to 10 faculty and members will engage in f
 requent seminars and activities that provide learning\, development\, and
  community building. Through participation in their community\, faculty w
 ill build a product or plan in support of enhancing teaching and learning
 . FLC’s are facilitated by FCTL Faculty Fellows or staff and usually meet
  5 times during the semester for a total of 10 contact hours.  Members th
 at successfully complete goals and objectives set by their community will
  be eligible for a $500 mini grant to extend their learning and implement
  their chosen project.\n\n\nThis community\, led by Stacy Rice and Eric T
 aylor\, will explore alternative flexible modalities and technologies tha
 t support student-centered\, active learning instructional strategies. Ea
 ch session will focus on specific tools and digital resources that enhanc
 e student engagement\, provide students with better access to information
 \, and meet the needs of diverse learners and faculty. Faculty will be ab
 le to easily integrate these technology tools and resources into existing
  curriculum and teaching modalities.\n\n\nPlease note that this is a seri
 es of sessions and you must register through My Learning Connection to be
  part of this Faculty Learning Community. 
X-ALT-DESC;FMTTYPE=text/html:&lt;html&gt;&lt;head&gt;&lt;title&gt;&lt;/title&gt;&lt;/head&gt;&lt;body&gt;&lt;p&gt;Jo
 in a cross-disciplinary group of faculty and engage in an active\, collab
 orative\, semester-long program about enhancing teaching and learning. FL
 Cs are teams of 8 to 10 faculty and members will engage in frequent semin
 ars and activities that provide learning\, development\, and community bu
 ilding. Through participation in their community\, faculty will build a p
 roduct or plan in support of enhancing teaching and learning. FLC’s are f
 acilitated by FCTL Faculty Fellows or staff and usually meet 5 times duri
 ng the semester for a total of 10 contact hours.&amp;nbsp\; Members that succ
 essfully complete goals and objectives set by their community will be eli
 gible for a $500 mini grant to extend their learning and implement their 
 chosen project.&lt;/p&gt;\n&lt;p&gt;This community\, led by Stacy Rice and Eric Taylo
 r\, will explore alternative flexible modalities and technologies that su
 pport student-centered\, active learning instructional strategies. Each s
 ession will focus on specific tools and digital resources that enhance st
 udent engagement\, provide students with better access to information\, a
 nd meet the needs of diverse learners and faculty. Faculty will be able t
 o easily integrate these technology tools and resources into existing cur
 riculum and teaching modalities.&lt;/p&gt;\n&lt;p&gt;Please note that this is a serie
 s of sessions and you must register through My Learning Connection to be 
 part of this Faculty Learning Community.&amp;nbsp\;&lt;/p&gt;&lt;/body&gt;&lt;/html&gt;
DTSTART;TZID=America/Chicago:20220824T130000
DTEND;TZID=America/Chicago:20220824T150000
SEQUENCE:0
URL:http://www.missouristate.edu/fctl
CATEGORIES:Faculty
END:VEVENT
END:VCALENDAR