BEGIN:VCALENDAR
VERSION:2.0
METHOD:PUBLISH
PRODID:-//Missouri State University/Calendar of Events//EN
CALSCALE:GREGORIAN
X-WR-TIMEZONE:America/Chicago
BEGIN:VTIMEZONE
TZID:America/Chicago
BEGIN:DAYLIGHT
TZOFFSETFROM:-0600
TZOFFSETTO:-0500
DTSTART:20070311T020000
RRULE:FREQ=YEARLY;BYMONTH=3;BYDAY=2SU
TZNAME:CDT
END:DAYLIGHT
BEGIN:STANDARD
TZOFFSETFROM:-0500
TZOFFSETTO:-0600
DTSTART:20071104T020000
RRULE:FREQ=YEARLY;BYMONTH=11;BYDAY=1SU
TZNAME:CST
END:STANDARD
END:VTIMEZONE
BEGIN:VEVENT
UID:00000000-0000-0000-0000-000000000000.221454@calendar.missouristate.edu
CREATED:20220722T174507Z
LAST-MODIFIED:20220722T174507Z
LOCATION:To Be Determined
SUMMARY:Missouri State Pre-Game Reception - Razorbacks vs. Bears
DESCRIPTION:Join Clif Smart\, president of Missouri State University\, MSU
  alums and friends in Rogers\, Arkansas\, on Tuesday\, Sept. 16\, the eve
 ning prior to the Missouri State vs. Arkansas game. Enjoy heavy hors d'oe
 uvres\, fun and socializing. Registration required. $20 covers food and d
 rink ticket.
X-ALT-DESC;FMTTYPE=text/html:&lt;html&gt;&lt;head&gt;&lt;title&gt;&lt;/title&gt;&lt;/head&gt;&lt;body&gt;&lt;p&gt;Jo
 in Clif Smart\, president of Missouri State University\, MSU alums and fr
 iends in Rogers\, Arkansas\, on Tuesday\, Sept. 16\, the evening prior to
  the Missouri State vs. Arkansas game. Enjoy heavy&amp;nbsp\;hors d'oeuvres\,
  fun and socializing. Registration required. $20 covers food and drink ti
 cket.&lt;br&gt;\n&lt;br&gt;\n&lt;/p&gt;&lt;/body&gt;&lt;/html&gt;
DTSTART;TZID=America/Chicago:20220916T180000
DTEND;TZID=America/Chicago:20220916T200000
SEQUENCE:0
URL:https://missouristate.imodules.com?sid=1691&amp;gid=2&amp;pgid=2857&amp;cid=5071&amp;e
 cid=5071&amp;ciid=16892&amp;crid=0
CATEGORIES:Public,Alumni,Parents and Family,Visitors
END:VEVENT
END:VCALENDAR