BEGIN:VCALENDAR
VERSION:2.0
METHOD:PUBLISH
PRODID:-//Missouri State University/Calendar of Events//EN
CALSCALE:GREGORIAN
X-WR-TIMEZONE:America/Chicago
BEGIN:VTIMEZONE
TZID:America/Chicago
BEGIN:DAYLIGHT
TZOFFSETFROM:-0600
TZOFFSETTO:-0500
DTSTART:20070311T020000
RRULE:FREQ=YEARLY;BYMONTH=3;BYDAY=2SU
TZNAME:CDT
END:DAYLIGHT
BEGIN:STANDARD
TZOFFSETFROM:-0500
TZOFFSETTO:-0600
DTSTART:20071104T020000
RRULE:FREQ=YEARLY;BYMONTH=11;BYDAY=1SU
TZNAME:CST
END:STANDARD
END:VTIMEZONE
BEGIN:VEVENT
UID:7f2de92b-688a-4c67-8c31-d93af4de9866.221444@calendar.missouristate.edu
CREATED:20220725T150021Z
LAST-MODIFIED:20220725T150021Z
LOCATION:Meyer Library\, Duane G. 302
SUMMARY:Becoming great: Small steps for engaging students from differing b
 ackgrounds and experiences
DESCRIPTION:Join a cross-disciplinary group of faculty and engage in an ac
 tive\, collaborative\, semester-long program about enhancing teaching and
  learning. FLCs are teams of 8 to 10 faculty and members will engage in f
 requent seminars and activities that provide learning\, development\, and
  community building. Through participation in their community\, faculty w
 ill build a product or plan in support of enhancing teaching and learning
 . FLC’s are facilitated by FCTL Faculty Fellows or staff and usually meet
  5 times during the semester for a total of 10 contact hours.  Members th
 at successfully complete goals and objectives set by their community will
  be eligible for a $500 mini grant to extend their learning and implement
  their chosen project.\n\n\nThe book\, Becoming Great Universities: Small
  Steps for Sustained Excellence (Light &amp; Jegla\, 2022) outlines 10 core c
 hallenges that are confronting universities. This Faculty Learning Commun
 ity\, led by Dr. Marjorie Shavers and Dr. Nancy Gordon\, will introduce t
 he book and focus on one of the challenges often experienced by faculty w
 hich is Facilitating Constructive Interactions among Students from Differ
 ing Backgrounds and Experiences (pp. 155-177).  The authors of this book 
 advocate that the best universities are those that are focused on enhanci
 ng personal relationships and putting students front and center. FLC memb
 ers will receive a copy of the book and will be encouraged to identify on
 e change or “small step” they can make to facilitate the engagement of st
 udents from differing backgrounds and experiences. \n\n\nPlease note that
  this is a series of sessions and you must register through My Learning C
 onnection to be part of this Faculty Learning Community. 
X-ALT-DESC;FMTTYPE=text/html:&lt;html&gt;&lt;head&gt;&lt;title&gt;&lt;/title&gt;&lt;/head&gt;&lt;body&gt;&lt;p&gt;Jo
 in a cross-disciplinary group of faculty and engage in an active\, collab
 orative\, semester-long program about enhancing teaching and learning. FL
 Cs are teams of 8 to 10 faculty and members will engage in frequent semin
 ars and activities that provide learning\, development\, and community bu
 ilding. Through participation in their community\, faculty will build a p
 roduct or plan in support of enhancing teaching and learning. FLC’s are f
 acilitated by FCTL Faculty Fellows or staff and usually meet 5 times duri
 ng the semester for a total of 10 contact hours.&amp;nbsp\; Members that succ
 essfully complete goals and objectives set by their community will be eli
 gible for a $500 mini grant to extend their learning and implement their 
 chosen project.&lt;/p&gt;\n&lt;p&gt;The book\, Becoming Great Universities: Small Ste
 ps for Sustained Excellence (Light &amp;amp\; Jegla\, 2022) outlines 10 core 
 challenges that are confronting universities. This Faculty Learning Commu
 nity\, led by Dr. Marjorie Shavers and Dr. Nancy Gordon\, will introduce 
 the book and focus on one of the challenges often experienced by faculty 
 which is Facilitating Constructive Interactions among Students from Diffe
 ring Backgrounds and Experiences (pp. 155-177).&amp;nbsp\; The authors of thi
 s book advocate that the best universities are those that are focused on 
 enhancing personal relationships and putting students front and center. F
 LC members will receive a copy of the book and will be encouraged to iden
 tify one change or “small step” they can make to facilitate the engagemen
 t of students from differing backgrounds and experiences.&amp;nbsp\;&lt;/p&gt;\n&lt;p&gt;
 Please note that this is a series of sessions and you must register throu
 gh My Learning Connection to be part of this Faculty Learning Community.&amp;
 nbsp\;&lt;/p&gt;&lt;/body&gt;&lt;/html&gt;
DTSTART;TZID=America/Chicago:20201004T123000
DTEND;TZID=America/Chicago:20201004T143000
SEQUENCE:1
URL:http://www.missouristate.edu/fctl
CATEGORIES:Faculty
END:VEVENT
END:VCALENDAR