BEGIN:VCALENDAR
VERSION:2.0
METHOD:PUBLISH
PRODID:-//Missouri State University/Calendar of Events//EN
CALSCALE:GREGORIAN
X-WR-TIMEZONE:America/Chicago
BEGIN:VTIMEZONE
TZID:America/Chicago
BEGIN:DAYLIGHT
TZOFFSETFROM:-0600
TZOFFSETTO:-0500
DTSTART:20070311T020000
RRULE:FREQ=YEARLY;BYMONTH=3;BYDAY=2SU
TZNAME:CDT
END:DAYLIGHT
BEGIN:STANDARD
TZOFFSETFROM:-0500
TZOFFSETTO:-0600
DTSTART:20071104T020000
RRULE:FREQ=YEARLY;BYMONTH=11;BYDAY=1SU
TZNAME:CST
END:STANDARD
END:VTIMEZONE
BEGIN:VEVENT
UID:a9e6ef3f-8e72-4f18-add3-8c09a66bbb5a.221450@calendar.missouristate.edu
CREATED:20220808T171627Z
LAST-MODIFIED:20220808T171627Z
LOCATION:Glass Hall\, David D. 2nd Floor Atrium (near Room 276)
SUMMARY:Resume Café Event
DESCRIPTION:Are you interested in having your resume reviewed by a recruit
 ment professional or Career Center staff member? If the answer is yes\, j
 oin us for our Resume Café - Business hosted by the Career Center. \n\n\n
 To participate\, come to the second floor of the Glass Hall atrium with a
  printed copy of your resume from 11 a.m.-2 p.m. on Aug. 31 or Sept. 6. Y
 ou will be paired with a recruitment professional or Career Center staff 
 member who will provide you with assistance in a 1-on-1 setting.\n\n\nReg
 istration in Handshake is preferred\, but not required. \n\n\nThe Career 
 Center is committed to ensuring all events are accessible. \n\n\nIf you w
 ill need accommodations\, please contact our office at 417-836-5636 or vi
 a email at careercenter@missouristate.edu at least 24 hours before the ev
 ent and our staff will be happy to work with you.
X-ALT-DESC;FMTTYPE=text/html:&lt;html&gt;&lt;head&gt;&lt;title&gt;&lt;/title&gt;&lt;/head&gt;&lt;body&gt;&lt;p&gt;&lt;s
 pan&gt;Are you interested in having your resume reviewed by a recruitment pr
 ofessional or Career Center staff member? If the answer is yes\, join us 
 for our Resume Café - Business hosted by the Career Center. &lt;/span&gt;&lt;/p&gt;\n
 &lt;p&gt;&lt;span&gt;To participate\, come to the second floor of the Glass Hall atri
 um with a printed copy of your resume&amp;nbsp\;from 11 a.m.-2 p.m. on Aug. 3
 1 or Sept. 6. You will be paired with a recruitment professional or Caree
 r Center staff member who will provide you with assistance in a 1-on-1 se
 tting.&lt;/span&gt;&lt;/p&gt;\n&lt;p&gt;&lt;span&gt;&lt;a href="https://missouristate.joinhandshake.
 com/events/1058645/share_preview"&gt;Registration&lt;/a&gt;&amp;nbsp\;in Handshake is 
 preferred\, but not required. &lt;/span&gt;&lt;/p&gt;\n&lt;p&gt;&lt;span&gt;The Career Center is 
 committed to ensuring all events are accessible. &lt;/span&gt;&lt;/p&gt;\n&lt;p&gt;&lt;span&gt;If
  you will need accommodations\, please contact our office at 417-836-5636
  or via email at careercenter@missouristate.edu at least 24 hours before 
 the event and our staff will be happy to work with you.&lt;/span&gt;&lt;/p&gt;&lt;/body&gt;
 &lt;/html&gt;
DTSTART;TZID=America/Chicago:20220831T110000
DTEND;TZID=America/Chicago:20220831T140000
SEQUENCE:0
URL:https://careercenter.missouristate.edu/resumecafe.htm
CATEGORIES:Current Students
END:VEVENT
END:VCALENDAR