BEGIN:VCALENDAR
VERSION:2.0
METHOD:PUBLISH
PRODID:-//Missouri State University/Calendar of Events//EN
CALSCALE:GREGORIAN
X-WR-TIMEZONE:America/Chicago
BEGIN:VTIMEZONE
TZID:America/Chicago
BEGIN:DAYLIGHT
TZOFFSETFROM:-0600
TZOFFSETTO:-0500
DTSTART:20070311T020000
RRULE:FREQ=YEARLY;BYMONTH=3;BYDAY=2SU
TZNAME:CDT
END:DAYLIGHT
BEGIN:STANDARD
TZOFFSETFROM:-0500
TZOFFSETTO:-0600
DTSTART:20071104T020000
RRULE:FREQ=YEARLY;BYMONTH=11;BYDAY=1SU
TZNAME:CST
END:STANDARD
END:VTIMEZONE
BEGIN:VEVENT
UID:9823b2f2-1001-4cb0-a817-e18dc98c278b.221453@calendar.missouristate.edu
CREATED:20220802T141440Z
LAST-MODIFIED:20220802T141440Z
LOCATION:215
SUMMARY:AHA CPR and First Aid Certification Course
DESCRIPTION:Ever thought getting certified would be a good idea? Come join
  us over the summer and get your two-year certification through the Ameri
 can Heart Association.\n\n\nNOTE: You must pre-register and pay for your 
 course.\n\n\nThe course seats are limited and first come\, first served. 
 We do have several other course options available to choose from.
X-ALT-DESC;FMTTYPE=text/html:&lt;html&gt;&lt;head&gt;&lt;title&gt;&lt;/title&gt;&lt;/head&gt;&lt;body&gt;&lt;p&gt;Ev
 er thought getting certified would be a good idea? Come join us over the 
 summer and get your two-year certification through the American Heart Ass
 ociation.&lt;/p&gt;\n&lt;p&gt;&lt;strong&gt;NOTE&lt;/strong&gt;:&amp;nbsp\;&lt;a href="https://ahec.miss
 ouristate.edu/cpr-first-aid-certification.htm"&gt;You must pre-register and 
 pay for your course.&lt;/a&gt;&lt;/p&gt;\n&lt;p&gt;The course seats are limited and first c
 ome\, first served. We do have several other course options available to 
 choose from.&lt;/p&gt;&lt;/body&gt;&lt;/html&gt;
DTSTART;TZID=America/Chicago:20220811T090000
DTEND;TZID=America/Chicago:20220811T163000
SEQUENCE:0
URL:https://ahec.missouristate.edu/cpr-first-aid-certification.htm
CATEGORIES:Public,Alumni,Current Students,Faculty,Future Students,Staff
END:VEVENT
END:VCALENDAR