BEGIN:VCALENDAR
VERSION:2.0
METHOD:PUBLISH
PRODID:-//Missouri State University/Calendar of Events//EN
CALSCALE:GREGORIAN
X-WR-TIMEZONE:America/Chicago
BEGIN:VTIMEZONE
TZID:America/Chicago
BEGIN:DAYLIGHT
TZOFFSETFROM:-0600
TZOFFSETTO:-0500
DTSTART:20070311T020000
RRULE:FREQ=YEARLY;BYMONTH=3;BYDAY=2SU
TZNAME:CDT
END:DAYLIGHT
BEGIN:STANDARD
TZOFFSETFROM:-0500
TZOFFSETTO:-0600
DTSTART:20071104T020000
RRULE:FREQ=YEARLY;BYMONTH=11;BYDAY=1SU
TZNAME:CST
END:STANDARD
END:VTIMEZONE
BEGIN:VEVENT
UID:00000000-0000-0000-0000-000000000000.221456@calendar.missouristate.edu
CREATED:20220726T204534Z
LAST-MODIFIED:20220726T204534Z
LOCATION:To Be Determined
SUMMARY: Lunch with a Genius: Dr. Douglas Gouzie
DESCRIPTION:The Missouri State University Foundation is excited to host th
 is new series of luncheons designed to showcase the many types of genius 
 at Missouri State University: from faculty research and initiatives to aw
 ard-winning programs developed by staff\, to students winning national aw
 ards.\n\n\n 
X-ALT-DESC;FMTTYPE=text/html:&lt;html&gt;&lt;head&gt;&lt;title&gt;&lt;/title&gt;&lt;/head&gt;&lt;body&gt;&lt;p&gt;Th
 e Missouri State University Foundation is excited to host this new series
  of luncheons designed to showcase the many types of genius at Missouri S
 tate University: from faculty research and initiatives to award-winning p
 rograms developed by staff\, to students winning national awards.&lt;/p&gt;\n&lt;p
 &gt;&amp;nbsp\;&lt;/p&gt;&lt;/body&gt;&lt;/html&gt;
DTSTART;TZID=America/Chicago:20220907T120000
DTEND;TZID=America/Chicago:20220907T130000
SEQUENCE:0
URL:https://missouristate.imodules.com?sid=1691&amp;gid=2&amp;pgid=2833&amp;cid=5039&amp;e
 cid=5039&amp;ciid=16748&amp;crid=0
CATEGORIES:Public,Alumni,Parents and Family,Visitors
END:VEVENT
END:VCALENDAR