BEGIN:VCALENDAR
VERSION:2.0
METHOD:PUBLISH
PRODID:-//Missouri State University/Calendar of Events//EN
CALSCALE:GREGORIAN
X-WR-TIMEZONE:America/Chicago
BEGIN:VTIMEZONE
TZID:America/Chicago
BEGIN:DAYLIGHT
TZOFFSETFROM:-0600
TZOFFSETTO:-0500
DTSTART:20070311T020000
RRULE:FREQ=YEARLY;BYMONTH=3;BYDAY=2SU
TZNAME:CDT
END:DAYLIGHT
BEGIN:STANDARD
TZOFFSETFROM:-0500
TZOFFSETTO:-0600
DTSTART:20071104T020000
RRULE:FREQ=YEARLY;BYMONTH=11;BYDAY=1SU
TZNAME:CST
END:STANDARD
END:VTIMEZONE
BEGIN:VEVENT
UID:00000000-0000-0000-0000-000000000000.221457@calendar.missouristate.edu
CREATED:20220726T204549Z
LAST-MODIFIED:20220726T204549Z
LOCATION:To Be Determined
SUMMARY:Choral Gala 2022
DESCRIPTION:The Missouri State University Choral Gala will be an elegant e
 vening of celebration and support for the Missouri State University Chora
 l Studies program. All proceeds will go toward supporting the students of
  the choral studies program.
X-ALT-DESC;FMTTYPE=text/html:&lt;html&gt;&lt;head&gt;&lt;title&gt;&lt;/title&gt;&lt;/head&gt;&lt;body&gt;&lt;p&gt;Th
 e Missouri State University Choral Gala will be an elegant evening of cel
 ebration and support for the Missouri State University Choral Studies pro
 gram. All proceeds will go toward supporting the students of the choral s
 tudies program.&lt;br&gt;\n&lt;/p&gt;&lt;/body&gt;&lt;/html&gt;
DTSTART;TZID=America/Chicago:20221001T173000
DTEND;TZID=America/Chicago:20221001T193000
SEQUENCE:0
URL:https://missouristate.imodules.com?sid=1691&amp;gid=2&amp;pgid=2824&amp;cid=5027&amp;e
 cid=5027&amp;ciid=17169&amp;crid=0
CATEGORIES:Public,Alumni,Parents and Family,Visitors
END:VEVENT
END:VCALENDAR