BEGIN:VCALENDAR
VERSION:2.0
METHOD:PUBLISH
PRODID:-//Missouri State University/Calendar of Events//EN
CALSCALE:GREGORIAN
X-WR-TIMEZONE:America/Chicago
BEGIN:VTIMEZONE
TZID:America/Chicago
BEGIN:DAYLIGHT
TZOFFSETFROM:-0600
TZOFFSETTO:-0500
DTSTART:20070311T020000
RRULE:FREQ=YEARLY;BYMONTH=3;BYDAY=2SU
TZNAME:CDT
END:DAYLIGHT
BEGIN:STANDARD
TZOFFSETFROM:-0500
TZOFFSETTO:-0600
DTSTART:20071104T020000
RRULE:FREQ=YEARLY;BYMONTH=11;BYDAY=1SU
TZNAME:CST
END:STANDARD
END:VTIMEZONE
BEGIN:VEVENT
UID:346c653f-6539-4ad5-90f2-76aa3ea6cb3b.221459@calendar.missouristate.edu
CREATED:20220808T171358Z
LAST-MODIFIED:20220808T171358Z
LOCATION:2825 S. Glenstone Ave.\, Springfield\, MO 65804
SUMMARY:JC Penney Suit Up Event 
DESCRIPTION:JCPenney Suit-Up Event\n\n\nThe Career Center is hosting a JCP
 enney Suit-Up Event!\n\n\nWhat is Suit-Up?\n\n\nBuilding a workplace ward
 robe can be difficult on a student budget. It is for this reason that the
  Career Center and JCPenney have partnered to offer Suit-Up. Suit-up is a
  program developed by JCPenney that provides college students an extra 30
 % off purchases! \n\n\nOn Aug. 28\, Missouri State University students an
 d alumni will be able to receive an extra 30% off at an in-person or onli
 ne checkout on career wear\, accessories and shoes.\n\n\nParticipants are
  allowed one coupon code per person\, but participants can text BEARS to 
 67292 to request another discount code. Visit JCPenney's Suit-Up website 
 to shop!
X-ALT-DESC;FMTTYPE=text/html:&lt;html&gt;&lt;head&gt;&lt;title&gt;&lt;/title&gt;&lt;/head&gt;&lt;body&gt;&lt;p&gt;&lt;s
 trong&gt;JCPenney Suit-Up Event&lt;/strong&gt;&lt;/p&gt;\n&lt;p&gt;The Career Center is hostin
 g a &lt;strong&gt;JCPenney Suit-Up Event!&lt;/strong&gt;&lt;/p&gt;\n&lt;p&gt;&lt;strong&gt;What is Suit
 -Up?&lt;/strong&gt;&lt;/p&gt;\n&lt;p&gt;Building a workplace wardrobe can be difficult on a
  student budget. It is for this reason that the Career Center and&amp;nbsp\;J
 CPenney&amp;nbsp\;have partnered to offer Suit-Up. Suit-up is a program devel
 oped by&amp;nbsp\;JCPenney&amp;nbsp\;that provides college students an extra 30% 
 off purchases!&amp;nbsp\;&lt;/p&gt;\n&lt;p&gt;&lt;strong&gt;On Aug. 28\, Missouri State Univers
 ity students and alumni will be able to&amp;nbsp\;receive an extra 30% off&amp;nb
 sp\;at an in-person or online&amp;nbsp\;checkout on career wear\, accessories
  and shoes.&lt;/strong&gt;&lt;/p&gt;\n&lt;p&gt;Participants are allowed&amp;nbsp\;one coupon co
 de per person\, but participants can&amp;nbsp\;text &lt;strong&gt;BEARS&lt;/strong&gt; to
  67292 to request another discount code. Visit&amp;nbsp\;&lt;a href="http://www.
 jcpenney.com/m/suit-up" target="_blank"&gt;JCPenney's Suit-Up website&lt;/a&gt;&amp;nb
 sp\;to shop!&lt;/p&gt;\n&lt;p&gt;&lt;/p&gt;&lt;/body&gt;&lt;/html&gt;
DTSTART;TZID=America/Chicago:20220828T150000
DTEND;TZID=America/Chicago:20220828T180000
SEQUENCE:1
URL:https://careercenter.missouristate.edu/
CATEGORIES:Alumni,Current Students,Faculty,Staff
END:VEVENT
END:VCALENDAR