BEGIN:VCALENDAR
VERSION:2.0
METHOD:PUBLISH
PRODID:-//Missouri State University/Calendar of Events//EN
CALSCALE:GREGORIAN
X-WR-TIMEZONE:America/Chicago
BEGIN:VTIMEZONE
TZID:America/Chicago
BEGIN:DAYLIGHT
TZOFFSETFROM:-0600
TZOFFSETTO:-0500
DTSTART:20070311T020000
RRULE:FREQ=YEARLY;BYMONTH=3;BYDAY=2SU
TZNAME:CDT
END:DAYLIGHT
BEGIN:STANDARD
TZOFFSETFROM:-0500
TZOFFSETTO:-0600
DTSTART:20071104T020000
RRULE:FREQ=YEARLY;BYMONTH=11;BYDAY=1SU
TZNAME:CST
END:STANDARD
END:VTIMEZONE
BEGIN:VEVENT
UID:811077c6-0105-4a8c-91c3-256feefd7c89.221463@calendar.missouristate.edu
CREATED:20220728T051509Z
LAST-MODIFIED:20220728T051509Z
LOCATION:Fayetteville\, Ark.
SUMMARY:Missouri State University Women's Cross Country vs University of A
 rkansas
DESCRIPTION:Missouri State University Women's Cross Country plays Universi
 ty of Arkansas
X-ALT-DESC;FMTTYPE=text/html:&lt;html&gt;&lt;head&gt;&lt;title&gt;&lt;/title&gt;&lt;/head&gt;&lt;body&gt;Misso
 uri State University Women's Cross Country plays University of Arkansas&lt;/
 body&gt;&lt;/html&gt;
DTSTART;TZID=America/Chicago:20220930T170000
DTEND;TZID=America/Chicago:20220930T200000
SEQUENCE:0
URL:http://missouristatebears.com/index.aspx?path=wcross
CATEGORIES:Current Students,Future Students,Parents and Family,Alumni,
 Faculty,Staff,Community,Visitors,Athletics
END:VEVENT
END:VCALENDAR