BEGIN:VCALENDAR
VERSION:2.0
METHOD:PUBLISH
PRODID:-//Missouri State University/Calendar of Events//EN
CALSCALE:GREGORIAN
X-WR-TIMEZONE:America/Chicago
BEGIN:VTIMEZONE
TZID:America/Chicago
BEGIN:DAYLIGHT
TZOFFSETFROM:-0600
TZOFFSETTO:-0500
DTSTART:20070311T020000
RRULE:FREQ=YEARLY;BYMONTH=3;BYDAY=2SU
TZNAME:CDT
END:DAYLIGHT
BEGIN:STANDARD
TZOFFSETFROM:-0500
TZOFFSETTO:-0600
DTSTART:20071104T020000
RRULE:FREQ=YEARLY;BYMONTH=11;BYDAY=1SU
TZNAME:CST
END:STANDARD
END:VTIMEZONE
BEGIN:VEVENT
UID:00000000-0000-0000-0000-000000000000.221468@calendar.missouristate.edu
CREATED:20220728T194534Z
LAST-MODIFIED:20220728T194534Z
LOCATION:To Be Determined
SUMMARY:Portland Alumni Gathering at Laurelwood Brewing Co.
DESCRIPTION:Join Portland-area Missouri State University Bears at a family
 -friendly Laurelwood Brewing for a happy hour and complimentary appetizer
 s. Make plans to stay for dinner following the happy hour.\n\n\n 
X-ALT-DESC;FMTTYPE=text/html:&lt;html&gt;&lt;head&gt;&lt;title&gt;&lt;/title&gt;&lt;/head&gt;&lt;body&gt;&lt;p&gt;Jo
 in Portland-area Missouri State University Bears at a family-friendly Lau
 relwood Brewing for a happy hour and complimentary appetizers. Make plans
  to stay for dinner following the happy hour.&lt;/p&gt;\n&lt;p&gt;&amp;nbsp\;&lt;/p&gt;&lt;/body&gt;&lt;
 /html&gt;
DTSTART;TZID=America/Chicago:20220826T180000
DTEND;TZID=America/Chicago:20220826T200000
SEQUENCE:0
URL:https://missouristate.imodules.com?sid=1691&amp;gid=2&amp;pgid=2869&amp;cid=5090&amp;e
 cid=5090&amp;ciid=16895&amp;crid=0
CATEGORIES:Public,Alumni,Parents and Family,Visitors
END:VEVENT
END:VCALENDAR