BEGIN:VCALENDAR
VERSION:2.0
METHOD:PUBLISH
PRODID:-//Missouri State University/Calendar of Events//EN
CALSCALE:GREGORIAN
X-WR-TIMEZONE:America/Chicago
BEGIN:VTIMEZONE
TZID:America/Chicago
BEGIN:DAYLIGHT
TZOFFSETFROM:-0600
TZOFFSETTO:-0500
DTSTART:20070311T020000
RRULE:FREQ=YEARLY;BYMONTH=3;BYDAY=2SU
TZNAME:CDT
END:DAYLIGHT
BEGIN:STANDARD
TZOFFSETFROM:-0500
TZOFFSETTO:-0600
DTSTART:20071104T020000
RRULE:FREQ=YEARLY;BYMONTH=11;BYDAY=1SU
TZNAME:CST
END:STANDARD
END:VTIMEZONE
BEGIN:VEVENT
UID:787e3651-3529-4185-b32e-abd5d89a5a74.221543@calendar.missouristate.edu
CREATED:20220808T163438Z
LAST-MODIFIED:20220808T163438Z
LOCATION:Karls Hall Atrium/Lobby area (First Floor)
SUMMARY:Resume Café Event
DESCRIPTION:Are you interested in having your resume reviewed by a recruit
 ment professional or Career Center staff member? If the answer is yes\, j
 oin us for our Resume Café - Agriculture hosted by the Career Center. To 
 participate\, come to the first floor of the Karls Hall atrium with a pri
 nted copy of your resume between 11 a.m.-2 p.m. on Sept 21. \n\n\nStudent
 s will be paired with a recruitment professional or Career Center staff m
 ember who will provide you with assistance in a 1-on-1 setting. Registrat
 ion is preferred\, but not required. \n\n\nThe Career Center is committed
  to ensuring all events are accessible. If you will need accommodations\,
  please contact our office at 417-836-5636 or via email at careercenter@m
 issouristate.edu at least 24 hours before the event and our staff will be
  happy to work with you.
X-ALT-DESC;FMTTYPE=text/html:&lt;html&gt;&lt;head&gt;&lt;title&gt;&lt;/title&gt;&lt;/head&gt;&lt;body&gt;&lt;p&gt;&lt;s
 pan&gt;Are you interested in having your resume reviewed by a recruitment pr
 ofessional or Career Center staff member? If the answer is yes\, join us 
 for our Resume Café - Agriculture hosted by the Career Center. To partici
 pate\, come to the first floor of the Karls Hall atrium with a printed co
 py of your resume between 11 a.m.-2 p.m. on&amp;nbsp\;Sept 21. &lt;/span&gt;&lt;/p&gt;\n&lt;
 p&gt;&lt;span&gt;Students will be paired with a recruitment professional or Career
  Center staff member who will provide you with assistance in a 1-on-1 set
 ting. Registration is preferred\, but not required. &lt;/span&gt;&lt;/p&gt;\n&lt;p&gt;&lt;span
 &gt;The Career Center is committed to ensuring all events are accessible. If
  you will need accommodations\, please contact our office at 417-836-5636
  or via email at careercenter@missouristate.edu at least 24 hours before 
 the event and our staff will be happy to work with you.&lt;/span&gt;&lt;/p&gt;&lt;/body&gt;
 &lt;/html&gt;
DTSTART;TZID=America/Chicago:20220921T110000
DTEND;TZID=America/Chicago:20220921T140000
SEQUENCE:0
URL:https://careercenter.missouristate.edu/resumecafe.htm
CATEGORIES:Alumni,Current Students
END:VEVENT
END:VCALENDAR