BEGIN:VCALENDAR
VERSION:2.0
METHOD:PUBLISH
PRODID:-//Missouri State University/Calendar of Events//EN
CALSCALE:GREGORIAN
X-WR-TIMEZONE:America/Chicago
BEGIN:VTIMEZONE
TZID:America/Chicago
BEGIN:DAYLIGHT
TZOFFSETFROM:-0600
TZOFFSETTO:-0500
DTSTART:20070311T020000
RRULE:FREQ=YEARLY;BYMONTH=3;BYDAY=2SU
TZNAME:CDT
END:DAYLIGHT
BEGIN:STANDARD
TZOFFSETFROM:-0500
TZOFFSETTO:-0600
DTSTART:20071104T020000
RRULE:FREQ=YEARLY;BYMONTH=11;BYDAY=1SU
TZNAME:CST
END:STANDARD
END:VTIMEZONE
BEGIN:VEVENT
UID:9f65601f-72d6-41d2-9511-69ce7a16cac7.221545@calendar.missouristate.edu
CREATED:20220811T145304Z
LAST-MODIFIED:20220811T145304Z
LOCATION:Plaster Stadium\, Robert W.
SUMMARY:Ozarko Marching Festival
DESCRIPTION:Missouri State University Pride Bands will host the 50th annua
 l Ozarko Marching Festival.
X-ALT-DESC;FMTTYPE=text/html:&lt;html&gt;&lt;head&gt;&lt;title&gt;&lt;/title&gt;&lt;/head&gt;&lt;body&gt;&lt;p&gt;Mi
 ssouri State University Pride Bands will host the &lt;strong&gt;50th annual&lt;/st
 rong&gt; Ozarko Marching Festival.&lt;/p&gt;\n&lt;p&gt;&lt;/p&gt;&lt;/body&gt;&lt;/html&gt;
DTSTART;VALUE=DATE:20221001
DTEND;VALUE=DATE:20221002
SEQUENCE:0
URL:https://www.missouristate.edu/Band/ozarko-marching-festival.htm
CATEGORIES:Public,Alumni,Current Students,Faculty,Future Students,Staff
END:VEVENT
END:VCALENDAR