BEGIN:VCALENDAR
VERSION:2.0
METHOD:PUBLISH
PRODID:-//Missouri State University/Calendar of Events//EN
CALSCALE:GREGORIAN
X-WR-TIMEZONE:America/Chicago
BEGIN:VTIMEZONE
TZID:America/Chicago
BEGIN:DAYLIGHT
TZOFFSETFROM:-0600
TZOFFSETTO:-0500
DTSTART:20070311T020000
RRULE:FREQ=YEARLY;BYMONTH=3;BYDAY=2SU
TZNAME:CDT
END:DAYLIGHT
BEGIN:STANDARD
TZOFFSETFROM:-0500
TZOFFSETTO:-0600
DTSTART:20071104T020000
RRULE:FREQ=YEARLY;BYMONTH=11;BYDAY=1SU
TZNAME:CST
END:STANDARD
END:VTIMEZONE
BEGIN:VEVENT
UID:724a20d6-4863-44fc-aadf-9b05b38859ff.221546@calendar.missouristate.edu
CREATED:20220804T201657Z
LAST-MODIFIED:20220804T201657Z
LOCATION:Plaster Stadium\, Robert W.
SUMMARY:Concert-On-The-Green
DESCRIPTION:The 2022 edition of the Pride Band will present its annual "Co
 ncert-on-the-Green." The concert is a sneak preview of some of the musica
 l selections in the band's fall repertoire.\n\n\nFans will be treated to 
 a variety of music\, including jazz\, pop\, classic and patriotic numbers
 .\n\n\nIt's free and open to the public.
X-ALT-DESC;FMTTYPE=text/html:&lt;html&gt;&lt;head&gt;&lt;title&gt;&lt;/title&gt;&lt;/head&gt;&lt;body&gt;&lt;p&gt;Th
 e 2022 edition of the Pride Band will present its annual "Concert-on-the-
 Green." The concert is a sneak preview of some of the musical selections 
 in the band's fall repertoire.&lt;/p&gt;\n&lt;p&gt;Fans will be treated to a variety 
 of music\, including jazz\, pop\, classic and patriotic numbers.&lt;/p&gt;\n&lt;p&gt;
 It's free and open to the public.&lt;/p&gt;&lt;/body&gt;&lt;/html&gt;
DTSTART;TZID=America/Chicago:20220821T190000
DTEND;TZID=America/Chicago:20220821T193000
SEQUENCE:1
URL:116210.jpg
CATEGORIES:Public,Alumni,Current Students,Faculty,Future Students,Staff
END:VEVENT
END:VCALENDAR