BEGIN:VCALENDAR
VERSION:2.0
METHOD:PUBLISH
PRODID:-//Missouri State University/Calendar of Events//EN
CALSCALE:GREGORIAN
X-WR-TIMEZONE:America/Chicago
BEGIN:VTIMEZONE
TZID:America/Chicago
BEGIN:DAYLIGHT
TZOFFSETFROM:-0600
TZOFFSETTO:-0500
DTSTART:20070311T020000
RRULE:FREQ=YEARLY;BYMONTH=3;BYDAY=2SU
TZNAME:CDT
END:DAYLIGHT
BEGIN:STANDARD
TZOFFSETFROM:-0500
TZOFFSETTO:-0600
DTSTART:20071104T020000
RRULE:FREQ=YEARLY;BYMONTH=11;BYDAY=1SU
TZNAME:CST
END:STANDARD
END:VTIMEZONE
BEGIN:VEVENT
UID:64b8c026-d576-44d3-bfa6-bf230e0c804c.221547@calendar.missouristate.edu
CREATED:20220808T163312Z
LAST-MODIFIED:20220808T163312Z
LOCATION:Plaster Student Union\, Robert W. Ballroom West\; 3rd Floor
SUMMARY:Mock Interview Day
DESCRIPTION:The Career Center will host a Mock Interview event so students
  and employers can engage in mock interviews. \n\n\nGet over your fears a
 nd gain some practice talking about yourself and your achievements\, as w
 ell as learn about organizations and their job opportunities.\n\n\nStuden
 ts can sign-up ahead of time to get on an interview schedule.\n\n\nSee th
 e detailed step-by-step instructions on how to upload resume and  how to 
 sign-up on interview schedule (student resources). \n\n\nBelow is an outl
 ine of steps:\n\n\n\nUpdate or upload resume into Handshake\nApply for th
 e Mock Interview Day event through Handshake by applying for the MOCK INT
 ERVIEW DAY associated job\nSign-up for a time slot\nYou will receive a co
 nfirmation and should be able to see your name on the interview schedule\
 n\nPlease feel free to contact us at 417-836-5636 with any questions.
X-ALT-DESC;FMTTYPE=text/html:&lt;html&gt;&lt;head&gt;&lt;title&gt;&lt;/title&gt;&lt;/head&gt;&lt;body&gt;&lt;p&gt;Th
 e Career Center&amp;nbsp\;will host a &lt;strong&gt;Mock Interview&amp;nbsp\;&lt;/strong&gt;e
 vent so students and employers can engage in mock interviews.&amp;nbsp\;&lt;/p&gt;\
 n&lt;p&gt;Get over your fears and gain some practice talking about yourself and
  your achievements\, as well as learn about organizations&amp;nbsp\;and their
  job opportunities.&lt;/p&gt;\n&lt;p&gt;Students can &lt;strong&gt;sign-up ahead of time&lt;/s
 trong&gt; to get on an interview schedule.&lt;/p&gt;\n&lt;p&gt;&lt;a href="https://careerce
 nter.missouristate.edu/MockInterviewDay.htm"&gt;See the detailed step-by-ste
 p instructions&lt;/a&gt; on how to upload resume and&amp;nbsp\; how to sign-up on i
 nterview schedule (&lt;strong&gt;student resources&lt;/strong&gt;).&amp;nbsp\;&lt;/p&gt;\n&lt;p&gt;Be
 low is an outline of steps:&lt;/p&gt;\n&lt;ol&gt;\n&lt;li&gt;Update or upload resume into H
 andshake&lt;/li&gt;\n&lt;li&gt;Apply for the Mock Interview Day event through&amp;nbsp\;&lt;
 a href="https://app.joinhandshake.com/edu/jobs/6565698"&gt;Handshake&lt;/a&gt;&amp;nbs
 p\;by applying for the MOCK INTERVIEW DAY associated job&lt;/li&gt;\n&lt;li&gt;Sign-u
 p for a time slot&lt;/li&gt;\n&lt;li&gt;You will receive a confirmation and should be
  able to see your name on the interview schedule&lt;/li&gt;\n&lt;/ol&gt;\n&lt;p&gt;Please f
 eel free to contact us at 417-836-5636 with any questions.&lt;/p&gt;&lt;/body&gt;&lt;/ht
 ml&gt;
DTSTART;TZID=America/Chicago:20221104T090000
DTEND;TZID=America/Chicago:20221104T133000
SEQUENCE:0
URL:https://careercenter.missouristate.edu/MockInterviewDay.htm
CATEGORIES:Alumni,Current Students
END:VEVENT
END:VCALENDAR