BEGIN:VCALENDAR
VERSION:2.0
METHOD:PUBLISH
PRODID:-//Missouri State University/Calendar of Events//EN
CALSCALE:GREGORIAN
X-WR-TIMEZONE:America/Chicago
BEGIN:VTIMEZONE
TZID:America/Chicago
BEGIN:DAYLIGHT
TZOFFSETFROM:-0600
TZOFFSETTO:-0500
DTSTART:20070311T020000
RRULE:FREQ=YEARLY;BYMONTH=3;BYDAY=2SU
TZNAME:CDT
END:DAYLIGHT
BEGIN:STANDARD
TZOFFSETFROM:-0500
TZOFFSETTO:-0600
DTSTART:20071104T020000
RRULE:FREQ=YEARLY;BYMONTH=11;BYDAY=1SU
TZNAME:CST
END:STANDARD
END:VTIMEZONE
BEGIN:VEVENT
UID:d3c77c85-9e57-40ae-8f5b-b4e856711dc9.221549@calendar.missouristate.edu
CREATED:20220806T051512Z
LAST-MODIFIED:20220806T051512Z
LOCATION:Nassau\, Bahamas
SUMMARY:Missouri State University Men's Basketball vs UNC Wilmington
DESCRIPTION:Missouri State University Men's Basketball plays UNC Wilmingto
 nTV: ESPN3
X-ALT-DESC;FMTTYPE=text/html:&lt;html&gt;&lt;head&gt;&lt;title&gt;&lt;/title&gt;&lt;/head&gt;&lt;body&gt;Misso
 uri State University Men's Basketball plays UNC Wilmington&lt;br&gt;&lt;br&gt;TV: ESP
 N3&lt;/body&gt;&lt;/html&gt;
DTSTART;TZID=America/Chicago:20221125T133000
DTEND;TZID=America/Chicago:20221125T153000
SEQUENCE:1
URL:http://missouristatebears.com/index.aspx?path=mbball
CATEGORIES:Current Students,Future Students,Parents and Family,Alumni,
 Faculty,Staff,Community,Visitors,Athletics
END:VEVENT
END:VCALENDAR