BEGIN:VCALENDAR
VERSION:2.0
METHOD:PUBLISH
PRODID:-//Missouri State University/Calendar of Events//EN
CALSCALE:GREGORIAN
X-WR-TIMEZONE:America/Chicago
BEGIN:VTIMEZONE
TZID:America/Chicago
BEGIN:DAYLIGHT
TZOFFSETFROM:-0600
TZOFFSETTO:-0500
DTSTART:20070311T020000
RRULE:FREQ=YEARLY;BYMONTH=3;BYDAY=2SU
TZNAME:CDT
END:DAYLIGHT
BEGIN:STANDARD
TZOFFSETFROM:-0500
TZOFFSETTO:-0600
DTSTART:20071104T020000
RRULE:FREQ=YEARLY;BYMONTH=11;BYDAY=1SU
TZNAME:CST
END:STANDARD
END:VTIMEZONE
BEGIN:VEVENT
UID:242ed594-0ae5-4ff8-bab5-72ee597d7b5d.221562@calendar.missouristate.edu
CREATED:20220808T212436Z
LAST-MODIFIED:20220808T212436Z
LOCATION:Plaster Student Union\, Robert W. 101
SUMMARY:MRC: Open House- Meet the new MRC Staff
DESCRIPTION:We are happy to announce that the Multicultural Resource Cente
 r has a new Director\, Dr. Nina Barudzic\, and a new Assistant Director\,
  Shy Wells. Please join us to meet the MRC's staff and enjoy light refres
 hments. 
X-ALT-DESC;FMTTYPE=text/html:&lt;html&gt;&lt;head&gt;&lt;title&gt;&lt;/title&gt;&lt;/head&gt;&lt;body&gt;&lt;p&gt;We
  are happy to announce that the Multicultural Resource Center has a new D
 irector\, Dr. Nina Barudzic\, and a new Assistant Director\, Shy Wells. P
 lease join us to&lt;strong&gt;&amp;nbsp\;&lt;/strong&gt;meet the MRC's staff and enjoy li
 ght refreshments.&amp;nbsp\;&lt;/p&gt;\n&lt;p&gt;&lt;/p&gt;&lt;/body&gt;&lt;/html&gt;
DTSTART;TZID=America/Chicago:20220825T140000
DTEND;TZID=America/Chicago:20220825T160000
SEQUENCE:0
URL:
CATEGORIES:Current Students,Faculty,Staff
END:VEVENT
END:VCALENDAR