BEGIN:VCALENDAR
VERSION:2.0
METHOD:PUBLISH
PRODID:-//Missouri State University/Calendar of Events//EN
CALSCALE:GREGORIAN
X-WR-TIMEZONE:America/Chicago
BEGIN:VTIMEZONE
TZID:America/Chicago
BEGIN:DAYLIGHT
TZOFFSETFROM:-0600
TZOFFSETTO:-0500
DTSTART:20070311T020000
RRULE:FREQ=YEARLY;BYMONTH=3;BYDAY=2SU
TZNAME:CDT
END:DAYLIGHT
BEGIN:STANDARD
TZOFFSETFROM:-0500
TZOFFSETTO:-0600
DTSTART:20071104T020000
RRULE:FREQ=YEARLY;BYMONTH=11;BYDAY=1SU
TZNAME:CST
END:STANDARD
END:VTIMEZONE
BEGIN:VEVENT
UID:9118fdcc-7657-42d6-ae12-225cb5d4be89.221587@calendar.missouristate.edu
CREATED:20220809T211714Z
LAST-MODIFIED:20220809T211714Z
LOCATION:600 W. Sunshine St.\, Springfield\, MO
SUMMARY:2022 Bear Battalion Military Ball (70th Anniversary!)
DESCRIPTION:Alumni\, Soldiers\, and Friends....\n\n\nThe Professor of Mili
 tary Science\, Cadre and Cadets of the Bear Battalion Army ROTC\n\n\n Req
 uest the honor of your company to attend the\n\n\n2022 Bear Battalion Mil
 itary Ball\n\n\nwhich marks the 70th anniversary of the MSU Army ROTC Pro
 gram!\n\n\nPlease reach out to MilitaryScience@MissouriState.edu or (417)
  836-5791 for ticket information and event details.
X-ALT-DESC;FMTTYPE=text/html:&lt;html&gt;&lt;head&gt;&lt;title&gt;&lt;/title&gt;&lt;/head&gt;&lt;body&gt;&lt;p al
 ign="center"&gt;&lt;i&gt;&lt;span&gt;Alumni\, Soldiers\, and Friends....&lt;/span&gt;&lt;/i&gt;&lt;/p&gt;\
 n&lt;p align="center"&gt;&lt;i&gt;&lt;span&gt;The Professor of Military Science\, Cadre and
  Cadets of the Bear Battalion Army ROTC&lt;/span&gt;&lt;/i&gt;&lt;/p&gt;\n&lt;p align="center"
 &gt;&lt;i&gt;&lt;span&gt;&lt;br&gt; &lt;/span&gt;&lt;/i&gt;&lt;i&gt;&lt;span&gt;Request the honor of your company to a
 ttend the&lt;/span&gt;&lt;/i&gt;&lt;/p&gt;\n&lt;p align="center"&gt;&lt;b&gt;&lt;i&gt;&lt;span&gt;2022 Bear Battali
 on Military Ball&lt;/span&gt;&lt;/i&gt;&lt;/b&gt;&lt;/p&gt;\n&lt;p align="center"&gt;&lt;i&gt;&lt;span&gt;which mar
 ks the 70th anniversary of the MSU Army ROTC Program!&lt;/span&gt;&lt;/i&gt;&lt;/p&gt;\n&lt;p 
 align="center"&gt;&lt;span&gt;&lt;span&gt;&lt;i&gt;Please reach out to MilitaryScience@Missour
 iState.edu or (417) 836-5791 for ticket information and event details.&lt;/i
 &gt;&lt;/span&gt;&lt;/span&gt;&lt;/p&gt;&lt;/body&gt;&lt;/html&gt;
DTSTART;TZID=America/Chicago:20221111T170000
DTEND;TZID=America/Chicago:20221111T230000
SEQUENCE:0
URL:
CATEGORIES:Alumni,Faculty,Staff
END:VEVENT
END:VCALENDAR