BEGIN:VCALENDAR
VERSION:2.0
METHOD:PUBLISH
PRODID:-//Missouri State University/Calendar of Events//EN
CALSCALE:GREGORIAN
X-WR-TIMEZONE:America/Chicago
BEGIN:VTIMEZONE
TZID:America/Chicago
BEGIN:DAYLIGHT
TZOFFSETFROM:-0600
TZOFFSETTO:-0500
DTSTART:20070311T020000
RRULE:FREQ=YEARLY;BYMONTH=3;BYDAY=2SU
TZNAME:CDT
END:DAYLIGHT
BEGIN:STANDARD
TZOFFSETFROM:-0500
TZOFFSETTO:-0600
DTSTART:20071104T020000
RRULE:FREQ=YEARLY;BYMONTH=11;BYDAY=1SU
TZNAME:CST
END:STANDARD
END:VTIMEZONE
BEGIN:VEVENT
UID:f6f1f835-2692-4912-b532-94594c722c96.221671@calendar.missouristate.edu
CREATED:20220817T213156Z
LAST-MODIFIED:20220817T213156Z
LOCATION:Plaster Student Union\, Robert W. Grand Ballroom
SUMMARY:Wellness and Benefit Fair
DESCRIPTION:Drop by the annual Wellness and Benefit Fair.
X-ALT-DESC;FMTTYPE=text/html:&lt;html&gt;&lt;head&gt;&lt;title&gt;&lt;/title&gt;&lt;/head&gt;&lt;body&gt;&lt;p&gt;Dr
 op by the annual&amp;nbsp\;&lt;a href="https://www.missouristate.edu/Wellness/We
 llness_Fair.htm"&gt;Wellness and Benefit Fair&lt;/a&gt;.&lt;/p&gt;\n&lt;p&gt;&lt;/p&gt;\n&lt;p&gt;&lt;/p&gt;\n&lt;p
 &gt;&lt;/p&gt;\n&lt;p&gt;&lt;/p&gt;&lt;/body&gt;&lt;/html&gt;
DTSTART;TZID=America/Chicago:20221026T110000
DTEND;TZID=America/Chicago:20221026T150000
SEQUENCE:0
URL:https://www.missouristate.edu/Wellness/Wellness_Fair.htm
CATEGORIES:Current Students,Faculty,Staff
END:VEVENT
END:VCALENDAR