BEGIN:VCALENDAR
VERSION:2.0
METHOD:PUBLISH
PRODID:-//Missouri State University/Calendar of Events//EN
CALSCALE:GREGORIAN
X-WR-TIMEZONE:America/Chicago
BEGIN:VTIMEZONE
TZID:America/Chicago
BEGIN:DAYLIGHT
TZOFFSETFROM:-0600
TZOFFSETTO:-0500
DTSTART:20070311T020000
RRULE:FREQ=YEARLY;BYMONTH=3;BYDAY=2SU
TZNAME:CDT
END:DAYLIGHT
BEGIN:STANDARD
TZOFFSETFROM:-0500
TZOFFSETTO:-0600
DTSTART:20071104T020000
RRULE:FREQ=YEARLY;BYMONTH=11;BYDAY=1SU
TZNAME:CST
END:STANDARD
END:VTIMEZONE
BEGIN:VEVENT
UID:2e74d83d-15f4-43a2-8ef5-d33a61e1b81a.221672@calendar.missouristate.edu
CREATED:20220817T213548Z
LAST-MODIFIED:20220817T213548Z
LOCATION:Brick City 4
SUMMARY:Slow Viewing Night at Brick City Gallery
DESCRIPTION:Join us in Slow Viewing Eric Beltz's "California Condor" on vi
 ew at the Brick City Gallery.\n\n\nSlow Viewing is a supportive practice 
 for anyone wanting to spend time with artwork\, slow down or develop thei
 r skills of interpretation\, observation and discussion of art. Guests wi
 ll collectively spend an hour carefully observing and speaking about Belt
 z's work. This will result in a deep understanding of how they and others
  relate to the artwork and each other.\n\n\nThis program is developed and
  facilitated by the artist Shauna LeAnn Smith. All are welcome and encour
 aged to join.
X-ALT-DESC;FMTTYPE=text/html:&lt;html&gt;&lt;head&gt;&lt;title&gt;&lt;/title&gt;&lt;/head&gt;&lt;body&gt;&lt;p&gt;Jo
 in us in Slow Viewing Eric Beltz's "California Condor" on view at the Bri
 ck City Gallery.&lt;/p&gt;\n&lt;p&gt;Slow Viewing is a supportive practice for anyone
  wanting to spend time with artwork\, slow down or develop their skills o
 f interpretation\, observation and discussion of art. Guests will collect
 ively spend an hour carefully observing and speaking about Beltz's work. 
 This will result in a deep understanding of how they and others relate to
  the artwork and each other.&lt;/p&gt;\n&lt;p&gt;This program is developed and facili
 tated by the artist Shauna LeAnn Smith. All are welcome and encouraged to
  join.&lt;/p&gt;&lt;/body&gt;&lt;/html&gt;
DTSTART;TZID=America/Chicago:20220926T180000
DTEND;TZID=America/Chicago:20220926T190000
SEQUENCE:0
URL:https://brickcitygallery.missouristate.edu/
CATEGORIES:Public,Alumni,Current Students,Faculty,Future Students,Staff
END:VEVENT
END:VCALENDAR