BEGIN:VCALENDAR
VERSION:2.0
METHOD:PUBLISH
PRODID:-//Missouri State University/Calendar of Events//EN
CALSCALE:GREGORIAN
X-WR-TIMEZONE:America/Chicago
BEGIN:VTIMEZONE
TZID:America/Chicago
BEGIN:DAYLIGHT
TZOFFSETFROM:-0600
TZOFFSETTO:-0500
DTSTART:20070311T020000
RRULE:FREQ=YEARLY;BYMONTH=3;BYDAY=2SU
TZNAME:CDT
END:DAYLIGHT
BEGIN:STANDARD
TZOFFSETFROM:-0500
TZOFFSETTO:-0600
DTSTART:20071104T020000
RRULE:FREQ=YEARLY;BYMONTH=11;BYDAY=1SU
TZNAME:CST
END:STANDARD
END:VTIMEZONE
BEGIN:VEVENT
UID:2b52633b-ae6e-48f5-9397-4f41c3de6e0e.221673@calendar.missouristate.edu
CREATED:20220812T150641Z
LAST-MODIFIED:20220812T150641Z
LOCATION:
SUMMARY:CNAS Student Expo
DESCRIPTION:Come learn about the wide array of student organizations withi
 n CNAS. We'll have games\, pizza and snacks.\n\n\nNote: The rain venue wi
 ll be the 2nd Floor Atrium in Plaster Student Union.
X-ALT-DESC;FMTTYPE=text/html:&lt;html&gt;&lt;head&gt;&lt;title&gt;&lt;/title&gt;&lt;/head&gt;&lt;body&gt;&lt;p&gt;Co
 me learn about the wide array of student organizations within CNAS. We'll
  have games\, pizza and snacks.&lt;/p&gt;\n&lt;p&gt;Note: The rain venue will be the 
 2nd Floor Atrium in Plaster Student Union.&lt;/p&gt;&lt;/body&gt;&lt;/html&gt;
DTSTART;TZID=America/Chicago:20220914T110000
DTEND;TZID=America/Chicago:20220914T130000
SEQUENCE:0
URL:
CATEGORIES:Current Students,Future Students
END:VEVENT
END:VCALENDAR