BEGIN:VCALENDAR
VERSION:2.0
METHOD:PUBLISH
PRODID:-//Missouri State University/Calendar of Events//EN
CALSCALE:GREGORIAN
X-WR-TIMEZONE:America/Chicago
BEGIN:VTIMEZONE
TZID:America/Chicago
BEGIN:DAYLIGHT
TZOFFSETFROM:-0600
TZOFFSETTO:-0500
DTSTART:20070311T020000
RRULE:FREQ=YEARLY;BYMONTH=3;BYDAY=2SU
TZNAME:CDT
END:DAYLIGHT
BEGIN:STANDARD
TZOFFSETFROM:-0500
TZOFFSETTO:-0600
DTSTART:20071104T020000
RRULE:FREQ=YEARLY;BYMONTH=11;BYDAY=1SU
TZNAME:CST
END:STANDARD
END:VTIMEZONE
BEGIN:VEVENT
UID:2ca39d3a-e48e-4ff2-ba90-7646b93f92c5.221674@calendar.missouristate.edu
CREATED:20220812T192315Z
LAST-MODIFIED:20220812T192315Z
LOCATION:Plaster Student Union\, Robert W. Ballroom (room 300)
SUMMARY:CNAS STEM Career Expo
DESCRIPTION:Please join us for the annual STEM Career Expo\, hosted by the
  College of Natural and Applied Sciences. Students will get to hear from 
 a wide variety of employers about who they are\, what they do and what ki
 nd of job/internship opportunities they have available.\n\n\nEmployers wi
 ll have the opportunity to meet students from a wide variety of backgroun
 ds in search of future colleagues.\n\n\nStudent Registration\n\n\nEmploye
 r Registration\n\n\nIf you have any questions\, please contact Dusty Brad
 dish (MSU Career Center) at DBraddish@MissouriState.edu.
X-ALT-DESC;FMTTYPE=text/html:&lt;html&gt;&lt;head&gt;&lt;title&gt;&lt;/title&gt;&lt;/head&gt;&lt;body&gt;&lt;p&gt;Pl
 ease join us for the annual STEM Career Expo\, hosted by the College of N
 atural and Applied Sciences. Students will get to hear from a wide variet
 y of employers about who they are\, what they do and what kind of job/int
 ernship opportunities they have available.&lt;/p&gt;\n&lt;p&gt;Employers will have th
 e opportunity to meet students from a &lt;a href="https://science.missourist
 ate.edu/departments-and-programs.aspx"&gt;wide variety of backgrounds&lt;/a&gt; in
  search of future colleagues.&lt;/p&gt;\n&lt;p&gt;&lt;a href="https://missouristate.join
 handshake.com/career_fairs/34447/student_preview?token=7PWBb_c0JXHZ3844dg
 kuxXUbxLqCia-gPnpt8tVuDZD0vIowGId-Gw"&gt;Student Registration&lt;/a&gt;&lt;/p&gt;\n&lt;p&gt;&lt;a
  href="https://app.joinhandshake.com/career_fairs/34447/employer_preview?
 token=7PWBb_c0JXHZ3844dgkuxXUbxLqCia-gPnpt8tVuDZD0vIowGId-Gw"&gt;Employer Re
 gistration&lt;/a&gt;&lt;/p&gt;\n&lt;p&gt;If you have any questions\, please contact Dusty B
 raddish (MSU Career Center) at &lt;a&gt;DBraddish@MissouriState.edu&lt;/a&gt;.&lt;/p&gt;&lt;/b
 ody&gt;&lt;/html&gt;
DTSTART;TZID=America/Chicago:20221109T150000
DTEND;TZID=America/Chicago:20221109T180000
SEQUENCE:0
URL:https://missouristate.joinhandshake.com/career_fairs/34447/student_pre
 view?token=7PWBb_c0JXHZ3844dgkuxXUbxLqCia-gPnpt8tVuDZD0vIowGId-Gw
CATEGORIES:Current Students
END:VEVENT
END:VCALENDAR