BEGIN:VCALENDAR
VERSION:2.0
METHOD:PUBLISH
PRODID:-//Missouri State University/Calendar of Events//EN
CALSCALE:GREGORIAN
X-WR-TIMEZONE:America/Chicago
BEGIN:VTIMEZONE
TZID:America/Chicago
BEGIN:DAYLIGHT
TZOFFSETFROM:-0600
TZOFFSETTO:-0500
DTSTART:20070311T020000
RRULE:FREQ=YEARLY;BYMONTH=3;BYDAY=2SU
TZNAME:CDT
END:DAYLIGHT
BEGIN:STANDARD
TZOFFSETFROM:-0500
TZOFFSETTO:-0600
DTSTART:20071104T020000
RRULE:FREQ=YEARLY;BYMONTH=11;BYDAY=1SU
TZNAME:CST
END:STANDARD
END:VTIMEZONE
BEGIN:VEVENT
UID:48b805d4-11c7-4b5c-86fd-d52865388084.221675@calendar.missouristate.edu
CREATED:20220826T153841Z
LAST-MODIFIED:20220826T153841Z
LOCATION:Plaster Student Union\, Robert W. 400 Union Club
SUMMARY:Latino/a/x New Student Welcome 
DESCRIPTION:Please come and join us at our social for new and returning st
 udents\, faculty and staff. Get connected with individuals on campus and 
 share your college experiences. 
X-ALT-DESC;FMTTYPE=text/html:&lt;html&gt;&lt;head&gt;&lt;title&gt;&lt;/title&gt;&lt;/head&gt;&lt;body&gt;&lt;p&gt;Pl
 ease come and join us at our social for new and returning students\, facu
 lty and staff. Get connected with individuals on campus and share your co
 llege experiences.&amp;nbsp\;&lt;/p&gt;&lt;/body&gt;&lt;/html&gt;
DTSTART;TZID=America/Chicago:20220907T170000
DTEND;TZID=America/Chicago:20220907T190000
SEQUENCE:2
URL:
CATEGORIES:Current Students,Faculty,Future Students,Staff
END:VEVENT
END:VCALENDAR