BEGIN:VCALENDAR
VERSION:2.0
METHOD:PUBLISH
PRODID:-//Missouri State University/Calendar of Events//EN
CALSCALE:GREGORIAN
X-WR-TIMEZONE:America/Chicago
BEGIN:VTIMEZONE
TZID:America/Chicago
BEGIN:DAYLIGHT
TZOFFSETFROM:-0600
TZOFFSETTO:-0500
DTSTART:20070311T020000
RRULE:FREQ=YEARLY;BYMONTH=3;BYDAY=2SU
TZNAME:CDT
END:DAYLIGHT
BEGIN:STANDARD
TZOFFSETFROM:-0500
TZOFFSETTO:-0600
DTSTART:20071104T020000
RRULE:FREQ=YEARLY;BYMONTH=11;BYDAY=1SU
TZNAME:CST
END:STANDARD
END:VTIMEZONE
BEGIN:VEVENT
UID:63650f89-6856-4ca3-94e6-743e8b4cec09.221676@calendar.missouristate.edu
CREATED:20220812T142449Z
LAST-MODIFIED:20220812T142449Z
LOCATION:Plaster Student Union\, Robert W. 101- MRC
SUMMARY:Tuesday Talk: Latino/a/x Individuals in the U.S.
DESCRIPTION:Come and join us in the Multicultural Resource Center to learn
  more about Latino/a/x individuals in the U.S. 
X-ALT-DESC;FMTTYPE=text/html:&lt;html&gt;&lt;head&gt;&lt;title&gt;&lt;/title&gt;&lt;/head&gt;&lt;body&gt;&lt;p&gt;Co
 me and join us in the Multicultural Resource Center to learn more about L
 atino/a/x individuals in the U.S.&amp;nbsp\;&lt;/p&gt;&lt;/body&gt;&lt;/html&gt;
DTSTART;TZID=America/Chicago:20220914T170000
DTEND;TZID=America/Chicago:20220914T180000
SEQUENCE:0
URL:
CATEGORIES:Current Students,Faculty,Future Students,Staff
END:VEVENT
END:VCALENDAR