BEGIN:VCALENDAR
VERSION:2.0
METHOD:PUBLISH
PRODID:-//Missouri State University/Calendar of Events//EN
CALSCALE:GREGORIAN
X-WR-TIMEZONE:America/Chicago
BEGIN:VTIMEZONE
TZID:America/Chicago
BEGIN:DAYLIGHT
TZOFFSETFROM:-0600
TZOFFSETTO:-0500
DTSTART:20070311T020000
RRULE:FREQ=YEARLY;BYMONTH=3;BYDAY=2SU
TZNAME:CDT
END:DAYLIGHT
BEGIN:STANDARD
TZOFFSETFROM:-0500
TZOFFSETTO:-0600
DTSTART:20071104T020000
RRULE:FREQ=YEARLY;BYMONTH=11;BYDAY=1SU
TZNAME:CST
END:STANDARD
END:VTIMEZONE
BEGIN:VEVENT
UID:455c6bbe-3bbd-45d9-abb1-d94770ed5857.221677@calendar.missouristate.edu
CREATED:20220812T142918Z
LAST-MODIFIED:20220812T142918Z
LOCATION:Plaster Student Union\, Robert W. 101- MRC
SUMMARY:Familism: Latino Families and the Influences on Social and Academi
 c Life
DESCRIPTION:Please join us in welcoming Felipe Padilla Soriano\, who will 
 speak on the topic of Familism. This workshop will help us gain more know
 ledge about social and academic life among Latino families. 
X-ALT-DESC;FMTTYPE=text/html:&lt;html&gt;&lt;head&gt;&lt;title&gt;&lt;/title&gt;&lt;/head&gt;&lt;body&gt;&lt;p&gt;Pl
 ease join us in welcoming Felipe Padilla Soriano\, who will speak on the 
 topic of Familism. This workshop will help us gain more knowledge about s
 ocial and academic life among Latino families.&amp;nbsp\;&lt;/p&gt;&lt;/body&gt;&lt;/html&gt;
DTSTART;TZID=America/Chicago:20220922T150000
DTEND;TZID=America/Chicago:20220922T163000
SEQUENCE:0
URL:
CATEGORIES:Public,Alumni,Current Students,Faculty,Staff
END:VEVENT
END:VCALENDAR