BEGIN:VCALENDAR
VERSION:2.0
METHOD:PUBLISH
PRODID:-//Missouri State University/Calendar of Events//EN
CALSCALE:GREGORIAN
X-WR-TIMEZONE:America/Chicago
BEGIN:VTIMEZONE
TZID:America/Chicago
BEGIN:DAYLIGHT
TZOFFSETFROM:-0600
TZOFFSETTO:-0500
DTSTART:20070311T020000
RRULE:FREQ=YEARLY;BYMONTH=3;BYDAY=2SU
TZNAME:CDT
END:DAYLIGHT
BEGIN:STANDARD
TZOFFSETFROM:-0500
TZOFFSETTO:-0600
DTSTART:20071104T020000
RRULE:FREQ=YEARLY;BYMONTH=11;BYDAY=1SU
TZNAME:CST
END:STANDARD
END:VTIMEZONE
BEGIN:VEVENT
UID:ce12b083-8ded-44c3-8228-198e63bfa5e0.221679@calendar.missouristate.edu
CREATED:20220912T133133Z
LAST-MODIFIED:20220912T133133Z
LOCATION:Plaster Student Union\, Robert W. PLSU Ballroom
SUMMARY:Baila Con Nosotros: Dance with us! 
DESCRIPTION:Baila Con Nosotros: Dance with us! is an event in collaboratio
 n with a local dance group: Grupo LatinoAmericano. During the three-hour 
 event\, the audience will be learning more about Latino/a/x individuals\,
  explore dances from Latin America\, and enjoy traditional Latin American
  food. 
X-ALT-DESC;FMTTYPE=text/html:&lt;html&gt;&lt;head&gt;&lt;title&gt;&lt;/title&gt;&lt;/head&gt;&lt;body&gt;&lt;p&gt;Ba
 ila Con Nosotros: Dance with us! is an event in collaboration with a loca
 l dance group: Grupo LatinoAmericano. During the three-hour event\, the a
 udience will be learning more about Latino/a/x individuals\, explore danc
 es from Latin America\, and enjoy traditional Latin American food.&amp;nbsp\;
 &lt;/p&gt;&lt;/body&gt;&lt;/html&gt;
DTSTART;TZID=America/Chicago:20220926T180000
DTEND;TZID=America/Chicago:20220926T210000
SEQUENCE:0
URL:
CATEGORIES:Public,Alumni,Current Students,Faculty,Future Students,Staff
END:VEVENT
END:VCALENDAR