BEGIN:VCALENDAR
VERSION:2.0
METHOD:PUBLISH
PRODID:-//Missouri State University/Calendar of Events//EN
CALSCALE:GREGORIAN
X-WR-TIMEZONE:America/Chicago
BEGIN:VTIMEZONE
TZID:America/Chicago
BEGIN:DAYLIGHT
TZOFFSETFROM:-0600
TZOFFSETTO:-0500
DTSTART:20070311T020000
RRULE:FREQ=YEARLY;BYMONTH=3;BYDAY=2SU
TZNAME:CDT
END:DAYLIGHT
BEGIN:STANDARD
TZOFFSETFROM:-0500
TZOFFSETTO:-0600
DTSTART:20071104T020000
RRULE:FREQ=YEARLY;BYMONTH=11;BYDAY=1SU
TZNAME:CST
END:STANDARD
END:VTIMEZONE
BEGIN:VEVENT
UID:70e661bc-4b09-4cac-ad69-74581b2d03a0.221715@calendar.missouristate.edu
CREATED:20220817T215155Z
LAST-MODIFIED:20220817T215155Z
LOCATION:Plaster Free Enterprise Center\, Robert W.
SUMMARY:Intentionally Developing Your People
DESCRIPTION:Successful retention and succession planning requires a develo
 pment plan for your people. Especially early in someone’s career\, it is 
 important to have a plan for how they will grow. Many leave this to chanc
 e and take a strategy of hope when it comes to skill development. Join us
  to learn how to take an intentional approach to identifying competencies
  and a plan to develop them.ObjectivesAfter completing this course partic
 ipants will be able to:\n\n\n\nUnderstand the principles of rapid skill d
 evelopment\nLearn the process of career mapping\nRecognize the link betwe
 en generalized knowledge and specific skills\nTake ownership for their ow
 n skill development\nUnderstand how development can lead to greater engag
 ement and retention
X-ALT-DESC;FMTTYPE=text/html:&lt;html&gt;&lt;head&gt;&lt;title&gt;&lt;/title&gt;&lt;/head&gt;&lt;body&gt;&lt;p&gt;&lt;s
 pan&gt;Successful retention and succession planning requires a development p
 lan for your people. Especially early in someone’s career\, it is importa
 nt to have a plan for how they will grow. Many leave this to chance and t
 ake a strategy of hope when it comes to skill development. Join us to lea
 rn how to take an intentional approach to identifying competencies and a 
 plan to develop them.&lt;/span&gt;&lt;br&gt;&lt;br&gt;&lt;strong&gt;Objectives&lt;/strong&gt;&lt;br&gt;&lt;br&gt;&lt;s
 pan&gt;After completing this course participants will be able to:&lt;/span&gt;&lt;/p&gt;
 \n&lt;ul&gt;\n&lt;li&gt;&lt;span&gt;Understand the principles of rapid skill development&lt;/s
 pan&gt;&lt;/li&gt;\n&lt;li&gt;&lt;span&gt;Learn the process of career mapping&lt;/span&gt;&lt;/li&gt;\n&lt;li
 &gt;&lt;span&gt;Recognize the link between generalized knowledge and specific skil
 ls&lt;/span&gt;&lt;/li&gt;\n&lt;li&gt;&lt;span&gt;Take ownership for their own skill development&lt;
 /span&gt;&lt;/li&gt;\n&lt;li&gt;&lt;span&gt;Understand how development can lead to greater eng
 agement and retention&lt;/span&gt;&lt;/li&gt;\n&lt;/ul&gt;&lt;/body&gt;&lt;/html&gt;
DTSTART;TZID=America/Chicago:20220920T090000
DTEND;TZID=America/Chicago:20220920T160000
SEQUENCE:0
URL:https://sbdc.missouristate.edu/training/
CATEGORIES:Public
END:VEVENT
END:VCALENDAR