BEGIN:VCALENDAR
VERSION:2.0
METHOD:PUBLISH
PRODID:-//Missouri State University/Calendar of Events//EN
CALSCALE:GREGORIAN
X-WR-TIMEZONE:America/Chicago
BEGIN:VTIMEZONE
TZID:America/Chicago
BEGIN:DAYLIGHT
TZOFFSETFROM:-0600
TZOFFSETTO:-0500
DTSTART:20070311T020000
RRULE:FREQ=YEARLY;BYMONTH=3;BYDAY=2SU
TZNAME:CDT
END:DAYLIGHT
BEGIN:STANDARD
TZOFFSETFROM:-0500
TZOFFSETTO:-0600
DTSTART:20071104T020000
RRULE:FREQ=YEARLY;BYMONTH=11;BYDAY=1SU
TZNAME:CST
END:STANDARD
END:VTIMEZONE
BEGIN:VEVENT
UID:faa6ebec-2d39-457e-a52e-b967aa88fb46.221717@calendar.missouristate.edu
CREATED:20220817T214739Z
LAST-MODIFIED:20220817T214739Z
LOCATION:Plaster Free Enterprise Center\, Robert W.
SUMMARY:The Impact of the Entrepreneurial Mindset: Then and Now
DESCRIPTION:According to Clifton Taulbert\, long before he heard the words
  ENTREPRENEURIAL MINDSET ... he encountered the word GUMPTION. According 
 to Taulbert\, he sees both words (Gumption &amp; Entrepreneurial Thinking) as
  a clarion call to individual and corporate action–to imaging beyond what
  we know and see. This is the human journey. All that we see around us wa
 s first a question that ignited our imagination and from there … off to t
 he innovation laboratories where the Pyramid of Africa would emerge\, and
  Steve Jobs' “iPhones” would define our daily lives.Taulbert\, a TIME MAG
 AZINE recognized entrepreneur will take us on a “MINDSET” journey from hi
 s Mississippi Icehouse to the fitness centers around the world where the 
 STAIRMASTER EXERCISE SYSTEM maintains fitness prominence. According to Ta
 ulbert\, “Once upon a time\, Stairmaster was simply an inquisitive conver
 sation—one that ignited the imagination of one man.”
X-ALT-DESC;FMTTYPE=text/html:&lt;html&gt;&lt;head&gt;&lt;title&gt;&lt;/title&gt;&lt;/head&gt;&lt;body&gt;&lt;p&gt;Ac
 cording to Clifton Taulbert\, long before he heard the words ENTREPRENEUR
 IAL MINDSET ... he encountered the word GUMPTION. According to Taulbert\,
  he sees both words (Gumption &amp;amp\; Entrepreneurial Thinking) as a clari
 on call to individual and corporate action–to imaging beyond what we know
  and see. This is the human journey. All that we see around us was first 
 a question that ignited our imagination and from there … off to the innov
 ation laboratories where the Pyramid of Africa would emerge\, and Steve J
 obs' “iPhones” would define our daily lives.&lt;br&gt;&lt;br&gt;Taulbert\, a TIME MAG
 AZINE recognized entrepreneur will take us on a “MINDSET” journey from hi
 s Mississippi Icehouse to the fitness centers around the world where the 
 STAIRMASTER EXERCISE SYSTEM maintains fitness prominence. According to Ta
 ulbert\, “Once upon a time\, Stairmaster was simply an inquisitive conver
 sation—one that ignited the imagination of one man.”&lt;/p&gt;&lt;/body&gt;&lt;/html&gt;
DTSTART;TZID=America/Chicago:20220927T130000
DTEND;TZID=America/Chicago:20220927T140000
SEQUENCE:0
URL:https://sbdc.missouristate.edu/training/
CATEGORIES:Public
END:VEVENT
END:VCALENDAR