BEGIN:VCALENDAR
VERSION:2.0
METHOD:PUBLISH
PRODID:-//Missouri State University/Calendar of Events//EN
CALSCALE:GREGORIAN
X-WR-TIMEZONE:America/Chicago
BEGIN:VTIMEZONE
TZID:America/Chicago
BEGIN:DAYLIGHT
TZOFFSETFROM:-0600
TZOFFSETTO:-0500
DTSTART:20070311T020000
RRULE:FREQ=YEARLY;BYMONTH=3;BYDAY=2SU
TZNAME:CDT
END:DAYLIGHT
BEGIN:STANDARD
TZOFFSETFROM:-0500
TZOFFSETTO:-0600
DTSTART:20071104T020000
RRULE:FREQ=YEARLY;BYMONTH=11;BYDAY=1SU
TZNAME:CST
END:STANDARD
END:VTIMEZONE
BEGIN:VEVENT
UID:6933b676-ed10-4d22-93ff-074b8bcee3a8.221718@calendar.missouristate.edu
CREATED:20220817T215545Z
LAST-MODIFIED:20220817T215545Z
LOCATION:Plaster Free Enterprise Center\, Robert W.
SUMMARY:Transforming Conflict into Positive Outcomes
DESCRIPTION:Does conflict sometimes interfere with the day-to-day operatio
 ns of your organization? Actually\, conflict is a natural and even benefi
 cial fact of life in the business environment. However\, when not managed
  well\, it can result in low morale\, decreased productivity\, high stres
 s levels and the loss of good employees\, all of which detract from the o
 rganization’s performance.The inability to deal with conflict can undermi
 ne a supervisor’s or manager’s effectiveness. Learn how to manage conflic
 t situations to produce positive outcomes.Benefits of attending: You will
  be able to identify the source of a conflict and know the most appropria
 te corrective action for that source. You will understand the different a
 pproaches for dealing with difficult people and which is the most effecti
 ve approach for a given situation. You will also learn communication skil
 ls that will enable you to confront conflict constructively\, and you wil
 l recognize and be able to address factors in your organization that may 
 be contributing to unproductive conflict.
X-ALT-DESC;FMTTYPE=text/html:&lt;html&gt;&lt;head&gt;&lt;title&gt;&lt;/title&gt;&lt;/head&gt;&lt;body&gt;&lt;p&gt;&lt;s
 pan&gt;Does conflict sometimes interfere with the day-to-day operations of y
 our organization? Actually\, conflict is a natural and even beneficial fa
 ct of life in the business environment. However\, when not managed well\,
  it can result in low morale\, decreased productivity\, high stress level
 s and the loss of good employees\, all of which detract from the organiza
 tion’s performance.&lt;br&gt;&lt;br&gt;The inability to deal with conflict can underm
 ine a supervisor’s or manager’s effectiveness. Learn how to manage confli
 ct situations to produce positive outcomes.&lt;br&gt;&lt;br&gt;Benefits of attending:
  You will be able to identify the source of a conflict and know the most 
 appropriate corrective action for that source. You will understand the di
 fferent approaches for dealing with difficult people and which is the mos
 t effective approach for a given situation. You will also learn communica
 tion skills that will enable you to confront conflict constructively\, an
 d you will recognize and be able to address factors in your organization 
 that may be contributing to unproductive conflict.&lt;br&gt;&lt;/span&gt;&lt;span&gt;&lt;/span
 &gt;&lt;/p&gt;&lt;/body&gt;&lt;/html&gt;
DTSTART;TZID=America/Chicago:20221011T090000
DTEND;TZID=America/Chicago:20221011T160000
SEQUENCE:0
URL:https://sbdc.missouristate.edu/training/
CATEGORIES:Public
END:VEVENT
END:VCALENDAR