BEGIN:VCALENDAR
VERSION:2.0
METHOD:PUBLISH
PRODID:-//Missouri State University/Calendar of Events//EN
CALSCALE:GREGORIAN
X-WR-TIMEZONE:America/Chicago
BEGIN:VTIMEZONE
TZID:America/Chicago
BEGIN:DAYLIGHT
TZOFFSETFROM:-0600
TZOFFSETTO:-0500
DTSTART:20070311T020000
RRULE:FREQ=YEARLY;BYMONTH=3;BYDAY=2SU
TZNAME:CDT
END:DAYLIGHT
BEGIN:STANDARD
TZOFFSETFROM:-0500
TZOFFSETTO:-0600
DTSTART:20071104T020000
RRULE:FREQ=YEARLY;BYMONTH=11;BYDAY=1SU
TZNAME:CST
END:STANDARD
END:VTIMEZONE
BEGIN:VEVENT
UID:6e7ffd13-bc8c-4aba-9cd7-c674ff9c61ce.221719@calendar.missouristate.edu
CREATED:20220816T164834Z
LAST-MODIFIED:20220816T164834Z
LOCATION:Plaster Free Enterprise Center\, Robert W.
SUMMARY:The Effective Leader
DESCRIPTION:Increasingly\, organizations are realizing the need for leader
 ship at all levels. Because people want to be led\, not managed\, manager
 s need to develop as leaders in addition to being highly competent in fun
 ctional management areas. There is an impressive body of knowledge regard
 ing leadership\, and the skills needed to be an effective leader. The Eff
 ective Leader/Manager will address the following key areas of managerial 
 effectiveness.This course is designed around the Management Competency Mo
 del based on The Leadership Challenge model by Kouzes and Posner.Key info
 rmation:Model the Way• Find your voice by clarifying your personal values
 • Set the example by aligning actions with shared values\n• Improving com
 munication (written\, verbal\, electronic\, web\, PR)\n• Inspire a shared
  vision• Envision the future by imagining exciting ennobling possibilitie
 s• Enlist others in a common vision by appealing to shared aspirationsCha
 llenge the Process• Search for opportunities by seeking innovative ways t
 o change\, grow and improve• Experiment and take risks by constantly gene
 rating small wins and learning from mistakes• Keep the lines open - pract
 ice "engaged listening" to ensure two-way communication throughout your t
 eam and the organization• Exude competence - generate a personal developm
 ent plan based on the four lessons of self-knowledge to continually incre
 ase your competence as a leader/managerEnable Others to Act• Foster colla
 boration by promoting cooperative goals and building trust• Strengthen ot
 hers by sharing power and discretion• Building collaboration / delegation
  / trustEncouraging the Heart• Recognize contributions by showing appreci
 ation for individual excellence• Celebrate the values and victories by cr
 eating a spirit of community
X-ALT-DESC;FMTTYPE=text/html:&lt;html&gt;&lt;head&gt;&lt;title&gt;&lt;/title&gt;&lt;/head&gt;&lt;body&gt;&lt;div&gt;
 Increasingly\, organizations are realizing the need for leadership at all
  levels. Because people want to be led\, not managed\, managers need to d
 evelop as leaders in addition to being highly competent in functional man
 agement areas. There is an impressive body of knowledge regarding leaders
 hip\, and the skills needed to be an effective leader. The Effective Lead
 er/Manager will address the following key areas of managerial effectivene
 ss.&lt;br&gt;&lt;br&gt;This course is designed around the Management Competency Model
  based on The Leadership Challenge model by Kouzes and Posner.&lt;br&gt;&lt;br&gt;Key
  information:&lt;br&gt;&lt;br&gt;Model the Way&lt;br&gt;• Find your voice by clarifying you
 r personal values&lt;br&gt;• Set the example by aligning actions with shared va
 lues&lt;/div&gt;\n&lt;div&gt;• Improving communication (written\, verbal\, electronic
 \, web\, PR)&lt;/div&gt;\n&lt;div&gt;•&amp;nbsp\;Inspire a shared vision&lt;br&gt;• Envision th
 e future by imagining exciting ennobling possibilities&lt;br&gt;• Enlist others
  in a common vision by appealing to shared aspirations&lt;br&gt;&lt;br&gt;Challenge t
 he Process&lt;br&gt;• Search for opportunities by seeking innovative ways to ch
 ange\, grow and improve&lt;br&gt;• Experiment and take risks by constantly gene
 rating small wins and learning from mistakes&lt;br&gt;• Keep the lines open - p
 ractice "engaged listening" to ensure two-way communication throughout yo
 ur team and the organization&lt;br&gt;• Exude competence - generate a personal 
 development plan based on the four lessons of self-knowledge to continual
 ly increase your competence as a leader/manager&lt;br&gt;&lt;br&gt;Enable Others to A
 ct&lt;br&gt;• Foster collaboration by promoting cooperative goals and building 
 trust&lt;br&gt;• Strengthen others by sharing power and discretion&lt;br&gt;• Buildin
 g collaboration / delegation / trust&lt;br&gt;&lt;br&gt;Encouraging the Heart&lt;br&gt;• Re
 cognize contributions by showing appreciation for individual excellence&lt;b
 r&gt;• Celebrate the values and victories by creating a spirit of community&lt;
 /div&gt;&lt;/body&gt;&lt;/html&gt;
DTSTART;TZID=America/Chicago:20221012T090000
DTEND;TZID=America/Chicago:20221012T160000
SEQUENCE:0
URL:https://sbdc.missouristate.edu/training/
CATEGORIES:Public
END:VEVENT
END:VCALENDAR