BEGIN:VCALENDAR
VERSION:2.0
METHOD:PUBLISH
PRODID:-//Missouri State University/Calendar of Events//EN
CALSCALE:GREGORIAN
X-WR-TIMEZONE:America/Chicago
BEGIN:VTIMEZONE
TZID:America/Chicago
BEGIN:DAYLIGHT
TZOFFSETFROM:-0600
TZOFFSETTO:-0500
DTSTART:20070311T020000
RRULE:FREQ=YEARLY;BYMONTH=3;BYDAY=2SU
TZNAME:CDT
END:DAYLIGHT
BEGIN:STANDARD
TZOFFSETFROM:-0500
TZOFFSETTO:-0600
DTSTART:20071104T020000
RRULE:FREQ=YEARLY;BYMONTH=11;BYDAY=1SU
TZNAME:CST
END:STANDARD
END:VTIMEZONE
BEGIN:VEVENT
UID:78c5703f-c58a-4744-ac4b-ade202d3563c.221720@calendar.missouristate.edu
CREATED:20220816T164851Z
LAST-MODIFIED:20220816T164851Z
LOCATION:Plaster Free Enterprise Center\, Robert W.
SUMMARY:Discover &amp; Lead with Your Strengths
DESCRIPTION:Every day employees are spending more and more time working in
  team and group situations. But few of them have ever received any traini
 ng in how to succeed in these situations. Many employees are even threate
 ned by the process.\n\n\nDuring this program\, you will learn and practic
 e the fundamentals of building effective and productive work groups. You 
 will walk away from this program with tools and techniques that can help 
 you turn low-performance groups into high-performance teams.\n\n\nYou wil
 l take a self-assessment in advance of this training to learn your top 34
  strengths and how you can work better and more productively in a team en
 vironment.
X-ALT-DESC;FMTTYPE=text/html:&lt;html&gt;&lt;head&gt;&lt;title&gt;&lt;/title&gt;&lt;/head&gt;&lt;body&gt;&lt;p&gt;Ev
 ery day employees are spending more and more time working in team and gro
 up situations. But few of them have ever received any training in how to 
 succeed in these situations. Many employees are even threatened by the pr
 ocess.&lt;/p&gt;\n&lt;p&gt;During this program\, you will learn and practice the fund
 amentals of building effective and productive work groups. You will walk 
 away from this program with tools and techniques that can help you turn l
 ow-performance groups into high-performance teams.&lt;/p&gt;\n&lt;p&gt;You will take 
 a self-assessment in advance of this training to learn your top 34 streng
 ths and how you can work better and more productively in a team environme
 nt.&lt;/p&gt;&lt;/body&gt;&lt;/html&gt;
DTSTART;TZID=America/Chicago:20221027T090000
DTEND;TZID=America/Chicago:20221027T160000
SEQUENCE:0
URL:https://sbdc.missouristate.edu/training/
CATEGORIES:Public
END:VEVENT
END:VCALENDAR